BEGIN:VCALENDAR
VERSION:2.0
PRODID:-//Diablo Rod and Gun Club - ECPv6.15.20//NONSGML v1.0//EN
CALSCALE:GREGORIAN
METHOD:PUBLISH
X-ORIGINAL-URL:https://diablorodandgun.com
X-WR-CALDESC:Events for Diablo Rod and Gun Club
REFRESH-INTERVAL;VALUE=DURATION:PT1H
X-Robots-Tag:noindex
X-PUBLISHED-TTL:PT1H
BEGIN:VTIMEZONE
TZID:America/Los_Angeles
BEGIN:DAYLIGHT
TZOFFSETFROM:-0800
TZOFFSETTO:-0700
TZNAME:PDT
DTSTART:20250309T100000
END:DAYLIGHT
BEGIN:STANDARD
TZOFFSETFROM:-0700
TZOFFSETTO:-0800
TZNAME:PST
DTSTART:20251102T090000
END:STANDARD
BEGIN:DAYLIGHT
TZOFFSETFROM:-0800
TZOFFSETTO:-0700
TZNAME:PDT
DTSTART:20260308T100000
END:DAYLIGHT
BEGIN:STANDARD
TZOFFSETFROM:-0700
TZOFFSETTO:-0800
TZNAME:PST
DTSTART:20261101T090000
END:STANDARD
BEGIN:DAYLIGHT
TZOFFSETFROM:-0800
TZOFFSETTO:-0700
TZNAME:PDT
DTSTART:20270314T100000
END:DAYLIGHT
BEGIN:STANDARD
TZOFFSETFROM:-0700
TZOFFSETTO:-0800
TZNAME:PST
DTSTART:20271107T090000
END:STANDARD
END:VTIMEZONE
BEGIN:VEVENT
DTSTART;TZID=America/Los_Angeles:20260308T070000
DTEND;TZID=America/Los_Angeles:20260308T130000
DTSTAMP:20260423T005155
CREATED:20260109T003111Z
LAST-MODIFIED:20260109T012230Z
UID:10005587-1772953200-1772974800@diablorodandgun.com
SUMMARY:Club Factory & Airgun Unsanctioned Match .22
DESCRIPTION:Club Factory & Airgun Unsanctioned Match .22 Rimfire and airguns up to .30 cal – 2nd Sun of every month\nBipod and Sandbag only rested Match : \n$8.00 Club Members \n$13.00 for Non Members
URL:https://diablorodandgun.com/event/national-50-yard-benchrest-match-for-22-rimfire-and-airguns-up-to-30-cal-2nd-sat-of-every-month-2-2/2026-03-08/
LOCATION:USI Multi Purpose Range\, 4700 Evora Road\, Concord\, CA\, 94520
CATEGORIES:Benchrest
GEO:38.0181978;-121.9914105
X-APPLE-STRUCTURED-LOCATION;VALUE=URI;X-ADDRESS=USI Multi Purpose Range 4700 Evora Road Concord CA 94520;X-APPLE-RADIUS=500;X-TITLE=4700 Evora Road:geo:-121.9914105,38.0181978
END:VEVENT
BEGIN:VEVENT
DTSTART;TZID=America/Los_Angeles:20260308T080000
DTEND;TZID=America/Los_Angeles:20260308T120000
DTSTAMP:20260423T005155
CREATED:20260109T014036Z
LAST-MODIFIED:20260109T014036Z
UID:10005919-1772956800-1772971200@diablorodandgun.com
SUMMARY:ARA Matches - 2nd Sunday
DESCRIPTION:We’ll start the season with four Unlimited ARA 4‑card matches and two 6‑card tournaments. Depending on participation and feedback\, we are hoping to add more events\,  including a Factory class later in the year.  \n  \n\n\n\n\n\nSecond Sunday –   ARA  Matches \n\n\n\n\n\nDay\n\n\nDate\n\n\nTime\n\n\nMatch\n\n\n\n\nSunday\n\n\n1/11/2026\n\n\n8:00 AM\n\n\n Regular Club Airgun/Factory/Repeater Match\n\n\n\n\nSaturday\n\n\n1/31/2026\n\n\n8:00 AM\n\n\n4 Card Unlimited ARA Match\n\n\n\n\nSunday\n\n\n2/8/2026\n\n\n8:00 AM\n\n\n6 Card Unlimited  ARA Club Tournament  *\n\n\n\n\nSunday\n\n\n3/8/2026\n\n\n8:00 AM\n\n\n4 Card Unlimited  ARA Match\n\n\n\n\nSunday\n\n\n4/12/2026\n\n\n8:00 AM\n\n\nClub or ARA Match TBD\n\n\n\n\nSunday\n\n\n5/10/2026\n\n\n8:00 AM\n\n\nClub or ARA Match TBD\n\n\n\n\nSunday\n\n\n6/14/2026\n\n\n8:00 AM\n\n\nClub or ARA Match TBD\n\n\n\n\nSunday\n\n\n7/12/2026\n\n\n8:00 AM\n\n\nClub or ARA Match TBD\n\n\n\n\nSunday\n\n\n8/9/2026\n\n\n8:00 AM\n\n\nClub or ARA Match TBD\n\n\n\n\nSunday\n\n\n9/13/2026\n\n\n8:00 AM\n\n\n4 Card Unlimited  ARA Match\n\n\n\n\nSunday\n\n\n10/11/2026\n\n\n8:00 AM\n\n\n6 Card Unlimited ARA Club Tournament    *\n\n\n\n\nSunday\n\n\n11/8/2026\n\n\n8:00 AM\n\n\n4 Card Unlimited  ARA Match\n\n\n\n\nSunday\n\n\n12/13/2026\n\n\n8:00 AM\n\n\nClub or ARA Match TBD\n\n\n\n\n\n\n\n*- Counts for double points
URL:https://diablorodandgun.com/event/ara-matches-2nd-sunday/2026-03-08/
LOCATION:USI Multi Purpose Range\, 4700 Evora Road\, Concord\, CA\, 94520
GEO:38.0181978;-121.9914105
X-APPLE-STRUCTURED-LOCATION;VALUE=URI;X-ADDRESS=USI Multi Purpose Range 4700 Evora Road Concord CA 94520;X-APPLE-RADIUS=500;X-TITLE=4700 Evora Road:geo:-121.9914105,38.0181978
END:VEVENT
BEGIN:VEVENT
DTSTART;TZID=America/Los_Angeles:20260308T080000
DTEND;TZID=America/Los_Angeles:20260308T150000
DTSTAMP:20260423T005155
CREATED:20231229T012041Z
LAST-MODIFIED:20251107T013235Z
UID:10004566-1772956800-1772982000@diablorodandgun.com
SUMMARY:Steel Challenge Match
DESCRIPTION:Schedule \n\nRegistration:  7:45 AM – 8:30 AM\n\nYou may pre-register and pre-pay here:  https://practiscore.com/clubs/diablo-action-pistol\n\n\nMatch:  9:00 AM – 2:00 PM\n\nMatch Fee \n\n$25  ($20 if you have a valid United Sportsmen VIP Access Card)\nWe prefer that you pre-register and pay on Practiscore\, but if registering at match please bring exact change.\n\nPrerequisites \n\nCompetitors must be “Action Pistol Certified” to take part in this match.  To become certified\, see the calendar for orientation classes.\nAll competitors need to bring or have a photo of a current USI waiver range card (“Blue or Green” card) to shoot at the range. If you do not have a current card go to https://unitedsportsmen.com/waiver/ for more information\, to watch the videos and take the online quiz prior to the class. We can issue current waiver cards at the class if you have completed the online portion.\n\nAbout Steel Challenge \nSteel Challenge is a speed shooting competition that consists of eight standardized stages with steel targets in three sizes; small circular\, large circular and square targets.  Competitors are scored by the time it takes them to complete each stage\, and the match winner is the competitor with the lowest overall time. \nOur matches have 5 stages with 5 steel targets on each.  Each competitor shoots each stage five times\, with their slowest run dropped\, excluding the stage “Outer Limits” where only four runs are shot and the top three counted.  The counting times are totaled for their stage score\, and the five stage scores are added together to establish the competitor’s match score. \nFor each run\, one hit per target is required\, with an unlimited number of rounds permitted.  The last target to be shot is known as the “stop plate”\, which stops the timer. All primary target hits made after the stop plate has been struck\, will be scored with a 3-second penalty each. The maximum time permitted for a run is 30 seconds and a competitor will be stopped and asked to reload if they reach the 30-second limit.
URL:https://diablorodandgun.com/event/dap-steel-challenge-match-2021-2/2026-03-08/
LOCATION:Action Pistol Range\, 4700 Evora Road\, Concord\, CA\, 94520
CATEGORIES:Diablo Action Pistol
ATTACH;FMTTYPE=image/png:https://diablorodandgun.com/wp-content/uploads/2020/12/Logo_of_the_Steel_Challenge_Shooting_Association.png
ORGANIZER;CN="Blade Benson":MAILTO:matchsupport@diabloactionpistol.com
GEO:38.0181978;-121.9914105
X-APPLE-STRUCTURED-LOCATION;VALUE=URI;X-ADDRESS=Action Pistol Range 4700 Evora Road Concord CA 94520;X-APPLE-RADIUS=500;X-TITLE=4700 Evora Road:geo:-121.9914105,38.0181978
END:VEVENT
END:VCALENDAR