BEGIN:VCALENDAR
VERSION:2.0
PRODID:-//Diablo Rod and Gun Club - ECPv6.15.20//NONSGML v1.0//EN
CALSCALE:GREGORIAN
METHOD:PUBLISH
X-ORIGINAL-URL:https://diablorodandgun.com
X-WR-CALDESC:Events for Diablo Rod and Gun Club
REFRESH-INTERVAL;VALUE=DURATION:PT1H
X-Robots-Tag:noindex
X-PUBLISHED-TTL:PT1H
BEGIN:VTIMEZONE
TZID:America/Los_Angeles
BEGIN:DAYLIGHT
TZOFFSETFROM:-0800
TZOFFSETTO:-0700
TZNAME:PDT
DTSTART:20250309T100000
END:DAYLIGHT
BEGIN:STANDARD
TZOFFSETFROM:-0700
TZOFFSETTO:-0800
TZNAME:PST
DTSTART:20251102T090000
END:STANDARD
BEGIN:DAYLIGHT
TZOFFSETFROM:-0800
TZOFFSETTO:-0700
TZNAME:PDT
DTSTART:20260308T100000
END:DAYLIGHT
BEGIN:STANDARD
TZOFFSETFROM:-0700
TZOFFSETTO:-0800
TZNAME:PST
DTSTART:20261101T090000
END:STANDARD
BEGIN:DAYLIGHT
TZOFFSETFROM:-0800
TZOFFSETTO:-0700
TZNAME:PDT
DTSTART:20270314T100000
END:DAYLIGHT
BEGIN:STANDARD
TZOFFSETFROM:-0700
TZOFFSETTO:-0800
TZNAME:PST
DTSTART:20271107T090000
END:STANDARD
END:VTIMEZONE
BEGIN:VEVENT
DTSTART;TZID=America/Los_Angeles:20260331T090000
DTEND;TZID=America/Los_Angeles:20260331T160000
DTSTAMP:20260422T235627
CREATED:20251209T222107Z
LAST-MODIFIED:20251209T222107Z
UID:10005451-1774947600-1774972800@diablorodandgun.com
SUMMARY:MPR - RSO Only - Airgun/.22 Only
DESCRIPTION:
URL:https://diablorodandgun.com/event/mpr-rso-only-airgun-22-only/2026-03-31/
LOCATION:USI Multi Purpose Range\, 4700 Evora Road\, Concord\, CA\, 94520
GEO:38.0181978;-121.9914105
X-APPLE-STRUCTURED-LOCATION;VALUE=URI;X-ADDRESS=USI Multi Purpose Range 4700 Evora Road Concord CA 94520;X-APPLE-RADIUS=500;X-TITLE=4700 Evora Road:geo:-121.9914105,38.0181978
END:VEVENT
END:VCALENDAR