BEGIN:VCALENDAR
VERSION:2.0
PRODID:-//Diablo Rod and Gun Club - ECPv6.15.20//NONSGML v1.0//EN
CALSCALE:GREGORIAN
METHOD:PUBLISH
X-WR-CALNAME:Diablo Rod and Gun Club
X-ORIGINAL-URL:https://diablorodandgun.com
X-WR-CALDESC:Events for Diablo Rod and Gun Club
REFRESH-INTERVAL;VALUE=DURATION:PT1H
X-Robots-Tag:noindex
X-PUBLISHED-TTL:PT1H
BEGIN:VTIMEZONE
TZID:America/Los_Angeles
BEGIN:DAYLIGHT
TZOFFSETFROM:-0800
TZOFFSETTO:-0700
TZNAME:PDT
DTSTART:20250309T100000
END:DAYLIGHT
BEGIN:STANDARD
TZOFFSETFROM:-0700
TZOFFSETTO:-0800
TZNAME:PST
DTSTART:20251102T090000
END:STANDARD
BEGIN:DAYLIGHT
TZOFFSETFROM:-0800
TZOFFSETTO:-0700
TZNAME:PDT
DTSTART:20260308T100000
END:DAYLIGHT
BEGIN:STANDARD
TZOFFSETFROM:-0700
TZOFFSETTO:-0800
TZNAME:PST
DTSTART:20261101T090000
END:STANDARD
BEGIN:DAYLIGHT
TZOFFSETFROM:-0800
TZOFFSETTO:-0700
TZNAME:PDT
DTSTART:20270314T100000
END:DAYLIGHT
BEGIN:STANDARD
TZOFFSETFROM:-0700
TZOFFSETTO:-0800
TZNAME:PST
DTSTART:20271107T090000
END:STANDARD
END:VTIMEZONE
BEGIN:VEVENT
DTSTART;TZID=America/Los_Angeles:20260418T090000
DTEND;TZID=America/Los_Angeles:20260418T120000
DTSTAMP:20260422T234550
CREATED:20240101T175148Z
LAST-MODIFIED:20251107T012556Z
UID:10004276-1776502800-1776513600@diablorodandgun.com
SUMMARY:Action Pistol - Sat Practice
DESCRIPTION:Range fee: \n\n$10  ($5 if you are a USI VIP Card holder)\nBring exact change.\n\nPlease note: \n\nThere will be no Saturday practice on the 5th Saturday of a month\, when those occur.\nThe number of practice bays available may be impacted by competition stage setup needs.
URL:https://diablorodandgun.com/event/dap-sat-practice-2-2-2/2026-04-18/
LOCATION:Action Pistol Range\, 4700 Evora Road\, Concord\, CA\, 94520
CATEGORIES:Diablo Action Pistol
ATTACH;FMTTYPE=image/png:https://diablorodandgun.com/wp-content/uploads/2019/01/White-bg_transparent-daplogo-e1547014989540.png
ORGANIZER;CN="Blade Benson":MAILTO:matchsupport@diabloactionpistol.com
GEO:38.0181978;-121.9914105
X-APPLE-STRUCTURED-LOCATION;VALUE=URI;X-ADDRESS=Action Pistol Range 4700 Evora Road Concord CA 94520;X-APPLE-RADIUS=500;X-TITLE=4700 Evora Road:geo:-121.9914105,38.0181978
END:VEVENT
BEGIN:VEVENT
DTSTART;TZID=America/Los_Angeles:20260418T090000
DTEND;TZID=America/Los_Angeles:20260418T120000
DTSTAMP:20260422T234550
CREATED:20250820T175526Z
LAST-MODIFIED:20250820T175931Z
UID:10002939-1776502800-1776513600@diablorodandgun.com
SUMMARY:NRL22 Match
DESCRIPTION:DRGC hosts an NRL22 match every 3rd Saturday of the month.\n\nNRL Matches runs from 8am-1pm for NRL22-style shooting — If you are new\, please speak to the Practice Leader/RSO about how to shoot safely in advance.\n\nMatch Fees:\n$10 for members with a USI VIP card\n$15 for members without a USI VIP card\n$30 for public (non-member)\n\n\nTo register for the match\, go to: https://practiscore.com/clubs/diablo_precision_rimfire_rifle \n  \n\nTo find out more information about NRL22 — Hit us up at nrl-matchsupport@diablorodandgun.com and someone will get back to you ASAP!!
URL:https://diablorodandgun.com/event/nrl22-match-3-2-2/2026-04-18/
LOCATION:USI Multi Purpose Range\, 4700 Evora Road\, Concord\, CA\, 94520
CATEGORIES:.22lr Shooting,NRL Events
ATTACH;FMTTYPE=image/jpeg:https://diablorodandgun.com/wp-content/uploads/2025/08/download-nrl.jpeg
ORGANIZER;CN="Richard Carlson":MAILTO:nrl-matchsupport@diablorodandgun.com
GEO:38.0181978;-121.9914105
X-APPLE-STRUCTURED-LOCATION;VALUE=URI;X-ADDRESS=USI Multi Purpose Range 4700 Evora Road Concord CA 94520;X-APPLE-RADIUS=500;X-TITLE=4700 Evora Road:geo:-121.9914105,38.0181978
END:VEVENT
BEGIN:VEVENT
DTSTART;TZID=America/Los_Angeles:20260418T130000
DTEND;TZID=America/Los_Angeles:20260418T160000
DTSTAMP:20260422T234550
CREATED:20250217T204137Z
LAST-MODIFIED:20250217T204137Z
UID:10003693-1776517200-1776528000@diablorodandgun.com
SUMMARY:Centerfire Rifles (Previously Sighted In) at 200yd Only on the MPR
DESCRIPTION:Diablo Rod and Gun club is hosting a monthly club-level 200 yard centerfire rifle match on the Multi-Purpose Range (MPR) \nAll Clubs Welcome!
URL:https://diablorodandgun.com/event/centerfire-rifles-previously-sighted-in-at-200yd-only-on-the-mpr/2026-04-18/
LOCATION:USI Multi Purpose Range\, 4700 Evora Road\, Concord\, CA\, 94520
GEO:38.0181978;-121.9914105
X-APPLE-STRUCTURED-LOCATION;VALUE=URI;X-ADDRESS=USI Multi Purpose Range 4700 Evora Road Concord CA 94520;X-APPLE-RADIUS=500;X-TITLE=4700 Evora Road:geo:-121.9914105,38.0181978
END:VEVENT
BEGIN:VEVENT
DTSTART;TZID=America/Los_Angeles:20260418T170000
DTEND;TZID=America/Los_Angeles:20260418T200000
DTSTAMP:20260422T234550
CREATED:20251107T055342Z
LAST-MODIFIED:20251117T025745Z
UID:10005145-1776531600-1776542400@diablorodandgun.com
SUMMARY:Diablo Saturday Night Shooting
DESCRIPTION:Diablo Saturday Night Shooting\n\n\n\n\n\n\n\n\nDiablo will be hosting Saturday night shooting at the public pistol range. \nIMPORTANT: If you need ammunition PLEASE be sure to grab it BEFORE USI closes. Diablo will NOT be selling ammo. \nIf you are in the mood to do some plinking\, head over to USI. Make sure you have your USI “Blue” card if not please make sure you have done the online waiver. \nTHIS WILL BE A WEEKLY SATURDAY NIGHT EVENT. BOTH RIFLE AND PISTOL WILL GENERALLY BE OPEN. \nHope to see everyone there!
URL:https://diablorodandgun.com/event/diablo-member-night-shoot-2-2-2/2026-04-18/
LOCATION:USI Public Pistol / Rifle Range\, 4700 Evora Road\, Concord\, 94520\, United States
CATEGORIES:Pistol Events
ATTACH;FMTTYPE=image/jpeg:https://diablorodandgun.com/wp-content/uploads/2025/01/unnamed-2.jpg
GEO:38.0181685;-121.9914784
X-APPLE-STRUCTURED-LOCATION;VALUE=URI;X-ADDRESS=USI Public Pistol / Rifle Range 4700 Evora Road Concord 94520 United States;X-APPLE-RADIUS=500;X-TITLE=4700 Evora Road:geo:-121.9914784,38.0181685
END:VEVENT
END:VCALENDAR