BEGIN:VCALENDAR
VERSION:2.0
PRODID:-//Diablo Rod and Gun Club - ECPv6.15.20//NONSGML v1.0//EN
CALSCALE:GREGORIAN
METHOD:PUBLISH
X-ORIGINAL-URL:https://diablorodandgun.com
X-WR-CALDESC:Events for Diablo Rod and Gun Club
REFRESH-INTERVAL;VALUE=DURATION:PT1H
X-Robots-Tag:noindex
X-PUBLISHED-TTL:PT1H
BEGIN:VTIMEZONE
TZID:America/Los_Angeles
BEGIN:DAYLIGHT
TZOFFSETFROM:-0800
TZOFFSETTO:-0700
TZNAME:PDT
DTSTART:20250309T100000
END:DAYLIGHT
BEGIN:STANDARD
TZOFFSETFROM:-0700
TZOFFSETTO:-0800
TZNAME:PST
DTSTART:20251102T090000
END:STANDARD
BEGIN:DAYLIGHT
TZOFFSETFROM:-0800
TZOFFSETTO:-0700
TZNAME:PDT
DTSTART:20260308T100000
END:DAYLIGHT
BEGIN:STANDARD
TZOFFSETFROM:-0700
TZOFFSETTO:-0800
TZNAME:PST
DTSTART:20261101T090000
END:STANDARD
BEGIN:DAYLIGHT
TZOFFSETFROM:-0800
TZOFFSETTO:-0700
TZNAME:PDT
DTSTART:20270314T100000
END:DAYLIGHT
BEGIN:STANDARD
TZOFFSETFROM:-0700
TZOFFSETTO:-0800
TZNAME:PST
DTSTART:20271107T090000
END:STANDARD
END:VTIMEZONE
BEGIN:VEVENT
DTSTART;TZID=America/Los_Angeles:20260430T090000
DTEND;TZID=America/Los_Angeles:20260430T120000
DTSTAMP:20260423T004452
CREATED:20240517T071958Z
LAST-MODIFIED:20251220T023020Z
UID:10003521-1777539600-1777550400@diablorodandgun.com
SUMMARY:Airgun & 22LR Thursdays
DESCRIPTION:Fun Airgun AND .22 LR from NOON ONWARD…  session at the MPR- look for the big red flag on the pole that says “MPR”- that’s us! \nOpen to public\, airguns .30 cal and below AND .22 LR. Benches available\, targets and stands\, 200 yard range. Good group of people. \nAll types of Airguns- springers\, PCP’s\, Pistols.\nAll Types of .22 LR – Rifle and Pistol. \nEye protection required\, ear required \n$15 Guest\n$10 for Diablo members (did you know Diablo membership is only $25 a year?)\n$5 for those special few that have purchased a USI VIP card.\nYouths accompanied by a Club member adult shoot free.\n \n\nUSI waiver must signed prior to shoot\, you can do so prior to attending: \n\nWaiver \n\nContact: \nSam Russo \nthePelleteer@gmail.com \n 
URL:https://diablorodandgun.com/event/airgun-22lr-thursdays/2026-04-30/
LOCATION:USI Multi Purpose Range\, 4700 Evora Road\, Concord\, CA\, 94520
CATEGORIES:.22lr Shooting,Airgun
ATTACH;FMTTYPE=image/jpeg:https://diablorodandgun.com/wp-content/uploads/2023/04/222.jpg
ORGANIZER;CN="Sam Russo":MAILTO:airgun_fieldtarget@diablorodandgun.com
GEO:38.0181978;-121.9914105
X-APPLE-STRUCTURED-LOCATION;VALUE=URI;X-ADDRESS=USI Multi Purpose Range 4700 Evora Road Concord CA 94520;X-APPLE-RADIUS=500;X-TITLE=4700 Evora Road:geo:-121.9914105,38.0181978
END:VEVENT
END:VCALENDAR