BEGIN:VCALENDAR
VERSION:2.0
PRODID:-//Diablo Rod and Gun Club - ECPv6.15.20//NONSGML v1.0//EN
CALSCALE:GREGORIAN
METHOD:PUBLISH
X-WR-CALNAME:Diablo Rod and Gun Club
X-ORIGINAL-URL:https://diablorodandgun.com
X-WR-CALDESC:Events for Diablo Rod and Gun Club
REFRESH-INTERVAL;VALUE=DURATION:PT1H
X-Robots-Tag:noindex
X-PUBLISHED-TTL:PT1H
BEGIN:VTIMEZONE
TZID:America/Los_Angeles
BEGIN:DAYLIGHT
TZOFFSETFROM:-0800
TZOFFSETTO:-0700
TZNAME:PDT
DTSTART:20250309T100000
END:DAYLIGHT
BEGIN:STANDARD
TZOFFSETFROM:-0700
TZOFFSETTO:-0800
TZNAME:PST
DTSTART:20251102T090000
END:STANDARD
BEGIN:DAYLIGHT
TZOFFSETFROM:-0800
TZOFFSETTO:-0700
TZNAME:PDT
DTSTART:20260308T100000
END:DAYLIGHT
BEGIN:STANDARD
TZOFFSETFROM:-0700
TZOFFSETTO:-0800
TZNAME:PST
DTSTART:20261101T090000
END:STANDARD
BEGIN:DAYLIGHT
TZOFFSETFROM:-0800
TZOFFSETTO:-0700
TZNAME:PDT
DTSTART:20270314T100000
END:DAYLIGHT
BEGIN:STANDARD
TZOFFSETFROM:-0700
TZOFFSETTO:-0800
TZNAME:PST
DTSTART:20271107T090000
END:STANDARD
BEGIN:DAYLIGHT
TZOFFSETFROM:-0800
TZOFFSETTO:-0700
TZNAME:PDT
DTSTART:20280312T100000
END:DAYLIGHT
BEGIN:STANDARD
TZOFFSETFROM:-0700
TZOFFSETTO:-0800
TZNAME:PST
DTSTART:20281105T090000
END:STANDARD
BEGIN:DAYLIGHT
TZOFFSETFROM:-0800
TZOFFSETTO:-0700
TZNAME:PDT
DTSTART:20290311T100000
END:DAYLIGHT
BEGIN:STANDARD
TZOFFSETFROM:-0700
TZOFFSETTO:-0800
TZNAME:PST
DTSTART:20291104T090000
END:STANDARD
END:VTIMEZONE
BEGIN:VEVENT
DTSTART;TZID=America/Los_Angeles:20260519T160000
DTEND;TZID=America/Los_Angeles:20260519T173000
DTSTAMP:20260425T055938
CREATED:20241221T010910Z
LAST-MODIFIED:20241221T010910Z
UID:10003032-1779206400-1779211800@diablorodandgun.com
SUMMARY:Pre-Social Diablo Members Skeet
DESCRIPTION:Come and shoot skeet before the Club Social! \nRight before the social\, you can purchase 1 or 2 skeet tokens at the club rate for the event. Not a free shoot\, but a great group of people to be with! \nLocation – Skeet Field 5
URL:https://diablorodandgun.com/event/diablo-members-skeet-2-2/2026-05-19/
LOCATION:USI Skeet Fields
ORGANIZER;CN="Martin O'Connor":MAILTO:Membership@Diablorodandgun.com
END:VEVENT
BEGIN:VEVENT
DTSTART;TZID=America/Los_Angeles:20260616T160000
DTEND;TZID=America/Los_Angeles:20260616T173000
DTSTAMP:20260425T055938
CREATED:20241221T010910Z
LAST-MODIFIED:20241221T010910Z
UID:10003033-1781625600-1781631000@diablorodandgun.com
SUMMARY:Pre-Social Diablo Members Skeet
DESCRIPTION:Come and shoot skeet before the Club Social! \nRight before the social\, you can purchase 1 or 2 skeet tokens at the club rate for the event. Not a free shoot\, but a great group of people to be with! \nLocation – Skeet Field 5
URL:https://diablorodandgun.com/event/diablo-members-skeet-2-2/2026-06-16/
LOCATION:USI Skeet Fields
ORGANIZER;CN="Martin O'Connor":MAILTO:Membership@Diablorodandgun.com
END:VEVENT
BEGIN:VEVENT
DTSTART;TZID=America/Los_Angeles:20260721T160000
DTEND;TZID=America/Los_Angeles:20260721T173000
DTSTAMP:20260425T055938
CREATED:20241221T010910Z
LAST-MODIFIED:20241221T010910Z
UID:10003034-1784649600-1784655000@diablorodandgun.com
SUMMARY:Pre-Social Diablo Members Skeet
DESCRIPTION:Come and shoot skeet before the Club Social! \nRight before the social\, you can purchase 1 or 2 skeet tokens at the club rate for the event. Not a free shoot\, but a great group of people to be with! \nLocation – Skeet Field 5
URL:https://diablorodandgun.com/event/diablo-members-skeet-2-2/2026-07-21/
LOCATION:USI Skeet Fields
ORGANIZER;CN="Martin O'Connor":MAILTO:Membership@Diablorodandgun.com
END:VEVENT
BEGIN:VEVENT
DTSTART;TZID=America/Los_Angeles:20260818T160000
DTEND;TZID=America/Los_Angeles:20260818T173000
DTSTAMP:20260425T055938
CREATED:20241221T010910Z
LAST-MODIFIED:20241221T010910Z
UID:10003035-1787068800-1787074200@diablorodandgun.com
SUMMARY:Pre-Social Diablo Members Skeet
DESCRIPTION:Come and shoot skeet before the Club Social! \nRight before the social\, you can purchase 1 or 2 skeet tokens at the club rate for the event. Not a free shoot\, but a great group of people to be with! \nLocation – Skeet Field 5
URL:https://diablorodandgun.com/event/diablo-members-skeet-2-2/2026-08-18/
LOCATION:USI Skeet Fields
ORGANIZER;CN="Martin O'Connor":MAILTO:Membership@Diablorodandgun.com
END:VEVENT
BEGIN:VEVENT
DTSTART;TZID=America/Los_Angeles:20260915T160000
DTEND;TZID=America/Los_Angeles:20260915T173000
DTSTAMP:20260425T055938
CREATED:20241221T010910Z
LAST-MODIFIED:20241221T010910Z
UID:10003036-1789488000-1789493400@diablorodandgun.com
SUMMARY:Pre-Social Diablo Members Skeet
DESCRIPTION:Come and shoot skeet before the Club Social! \nRight before the social\, you can purchase 1 or 2 skeet tokens at the club rate for the event. Not a free shoot\, but a great group of people to be with! \nLocation – Skeet Field 5
URL:https://diablorodandgun.com/event/diablo-members-skeet-2-2/2026-09-15/
LOCATION:USI Skeet Fields
ORGANIZER;CN="Martin O'Connor":MAILTO:Membership@Diablorodandgun.com
END:VEVENT
BEGIN:VEVENT
DTSTART;TZID=America/Los_Angeles:20261020T160000
DTEND;TZID=America/Los_Angeles:20261020T173000
DTSTAMP:20260425T055938
CREATED:20241221T010910Z
LAST-MODIFIED:20241221T010910Z
UID:10003037-1792512000-1792517400@diablorodandgun.com
SUMMARY:Pre-Social Diablo Members Skeet
DESCRIPTION:Come and shoot skeet before the Club Social! \nRight before the social\, you can purchase 1 or 2 skeet tokens at the club rate for the event. Not a free shoot\, but a great group of people to be with! \nLocation – Skeet Field 5
URL:https://diablorodandgun.com/event/diablo-members-skeet-2-2/2026-10-20/
LOCATION:USI Skeet Fields
ORGANIZER;CN="Martin O'Connor":MAILTO:Membership@Diablorodandgun.com
END:VEVENT
BEGIN:VEVENT
DTSTART;TZID=America/Los_Angeles:20261117T160000
DTEND;TZID=America/Los_Angeles:20261117T173000
DTSTAMP:20260425T055938
CREATED:20241221T010910Z
LAST-MODIFIED:20241221T010910Z
UID:10003038-1794931200-1794936600@diablorodandgun.com
SUMMARY:Pre-Social Diablo Members Skeet
DESCRIPTION:Come and shoot skeet before the Club Social! \nRight before the social\, you can purchase 1 or 2 skeet tokens at the club rate for the event. Not a free shoot\, but a great group of people to be with! \nLocation – Skeet Field 5
URL:https://diablorodandgun.com/event/diablo-members-skeet-2-2/2026-11-17/
LOCATION:USI Skeet Fields
ORGANIZER;CN="Martin O'Connor":MAILTO:Membership@Diablorodandgun.com
END:VEVENT
BEGIN:VEVENT
DTSTART;TZID=America/Los_Angeles:20261215T160000
DTEND;TZID=America/Los_Angeles:20261215T173000
DTSTAMP:20260425T055938
CREATED:20241221T010910Z
LAST-MODIFIED:20241221T010910Z
UID:10003039-1797350400-1797355800@diablorodandgun.com
SUMMARY:Pre-Social Diablo Members Skeet
DESCRIPTION:Come and shoot skeet before the Club Social! \nRight before the social\, you can purchase 1 or 2 skeet tokens at the club rate for the event. Not a free shoot\, but a great group of people to be with! \nLocation – Skeet Field 5
URL:https://diablorodandgun.com/event/diablo-members-skeet-2-2/2026-12-15/
LOCATION:USI Skeet Fields
ORGANIZER;CN="Martin O'Connor":MAILTO:Membership@Diablorodandgun.com
END:VEVENT
BEGIN:VEVENT
DTSTART;TZID=America/Los_Angeles:20270119T160000
DTEND;TZID=America/Los_Angeles:20270119T173000
DTSTAMP:20260425T055938
CREATED:20241221T010910Z
LAST-MODIFIED:20241221T010910Z
UID:10003040-1800374400-1800379800@diablorodandgun.com
SUMMARY:Pre-Social Diablo Members Skeet
DESCRIPTION:Come and shoot skeet before the Club Social! \nRight before the social\, you can purchase 1 or 2 skeet tokens at the club rate for the event. Not a free shoot\, but a great group of people to be with! \nLocation – Skeet Field 5
URL:https://diablorodandgun.com/event/diablo-members-skeet-2-2/2027-01-19/
LOCATION:USI Skeet Fields
ORGANIZER;CN="Martin O'Connor":MAILTO:Membership@Diablorodandgun.com
END:VEVENT
BEGIN:VEVENT
DTSTART;TZID=America/Los_Angeles:20270216T160000
DTEND;TZID=America/Los_Angeles:20270216T173000
DTSTAMP:20260425T055938
CREATED:20241221T010910Z
LAST-MODIFIED:20241221T010910Z
UID:10003041-1802793600-1802799000@diablorodandgun.com
SUMMARY:Pre-Social Diablo Members Skeet
DESCRIPTION:Come and shoot skeet before the Club Social! \nRight before the social\, you can purchase 1 or 2 skeet tokens at the club rate for the event. Not a free shoot\, but a great group of people to be with! \nLocation – Skeet Field 5
URL:https://diablorodandgun.com/event/diablo-members-skeet-2-2/2027-02-16/
LOCATION:USI Skeet Fields
ORGANIZER;CN="Martin O'Connor":MAILTO:Membership@Diablorodandgun.com
END:VEVENT
BEGIN:VEVENT
DTSTART;TZID=America/Los_Angeles:20270316T160000
DTEND;TZID=America/Los_Angeles:20270316T173000
DTSTAMP:20260425T055938
CREATED:20241221T010910Z
LAST-MODIFIED:20241221T010910Z
UID:10003042-1805212800-1805218200@diablorodandgun.com
SUMMARY:Pre-Social Diablo Members Skeet
DESCRIPTION:Come and shoot skeet before the Club Social! \nRight before the social\, you can purchase 1 or 2 skeet tokens at the club rate for the event. Not a free shoot\, but a great group of people to be with! \nLocation – Skeet Field 5
URL:https://diablorodandgun.com/event/diablo-members-skeet-2-2/2027-03-16/
LOCATION:USI Skeet Fields
ORGANIZER;CN="Martin O'Connor":MAILTO:Membership@Diablorodandgun.com
END:VEVENT
BEGIN:VEVENT
DTSTART;TZID=America/Los_Angeles:20270420T160000
DTEND;TZID=America/Los_Angeles:20270420T173000
DTSTAMP:20260425T055938
CREATED:20241221T010910Z
LAST-MODIFIED:20241221T010910Z
UID:10003043-1808236800-1808242200@diablorodandgun.com
SUMMARY:Pre-Social Diablo Members Skeet
DESCRIPTION:Come and shoot skeet before the Club Social! \nRight before the social\, you can purchase 1 or 2 skeet tokens at the club rate for the event. Not a free shoot\, but a great group of people to be with! \nLocation – Skeet Field 5
URL:https://diablorodandgun.com/event/diablo-members-skeet-2-2/2027-04-20/
LOCATION:USI Skeet Fields
ORGANIZER;CN="Martin O'Connor":MAILTO:Membership@Diablorodandgun.com
END:VEVENT
BEGIN:VEVENT
DTSTART;TZID=America/Los_Angeles:20270518T160000
DTEND;TZID=America/Los_Angeles:20270518T173000
DTSTAMP:20260425T055938
CREATED:20241221T010910Z
LAST-MODIFIED:20241221T010910Z
UID:10003044-1810656000-1810661400@diablorodandgun.com
SUMMARY:Pre-Social Diablo Members Skeet
DESCRIPTION:Come and shoot skeet before the Club Social! \nRight before the social\, you can purchase 1 or 2 skeet tokens at the club rate for the event. Not a free shoot\, but a great group of people to be with! \nLocation – Skeet Field 5
URL:https://diablorodandgun.com/event/diablo-members-skeet-2-2/2027-05-18/
LOCATION:USI Skeet Fields
ORGANIZER;CN="Martin O'Connor":MAILTO:Membership@Diablorodandgun.com
END:VEVENT
BEGIN:VEVENT
DTSTART;TZID=America/Los_Angeles:20270615T160000
DTEND;TZID=America/Los_Angeles:20270615T173000
DTSTAMP:20260425T055938
CREATED:20241221T010910Z
LAST-MODIFIED:20241221T010910Z
UID:10003045-1813075200-1813080600@diablorodandgun.com
SUMMARY:Pre-Social Diablo Members Skeet
DESCRIPTION:Come and shoot skeet before the Club Social! \nRight before the social\, you can purchase 1 or 2 skeet tokens at the club rate for the event. Not a free shoot\, but a great group of people to be with! \nLocation – Skeet Field 5
URL:https://diablorodandgun.com/event/diablo-members-skeet-2-2/2027-06-15/
LOCATION:USI Skeet Fields
ORGANIZER;CN="Martin O'Connor":MAILTO:Membership@Diablorodandgun.com
END:VEVENT
BEGIN:VEVENT
DTSTART;TZID=America/Los_Angeles:20270720T160000
DTEND;TZID=America/Los_Angeles:20270720T173000
DTSTAMP:20260425T055938
CREATED:20241221T010910Z
LAST-MODIFIED:20241221T010910Z
UID:10003046-1816099200-1816104600@diablorodandgun.com
SUMMARY:Pre-Social Diablo Members Skeet
DESCRIPTION:Come and shoot skeet before the Club Social! \nRight before the social\, you can purchase 1 or 2 skeet tokens at the club rate for the event. Not a free shoot\, but a great group of people to be with! \nLocation – Skeet Field 5
URL:https://diablorodandgun.com/event/diablo-members-skeet-2-2/2027-07-20/
LOCATION:USI Skeet Fields
ORGANIZER;CN="Martin O'Connor":MAILTO:Membership@Diablorodandgun.com
END:VEVENT
BEGIN:VEVENT
DTSTART;TZID=America/Los_Angeles:20270817T160000
DTEND;TZID=America/Los_Angeles:20270817T173000
DTSTAMP:20260425T055938
CREATED:20241221T010910Z
LAST-MODIFIED:20241221T010910Z
UID:10003047-1818518400-1818523800@diablorodandgun.com
SUMMARY:Pre-Social Diablo Members Skeet
DESCRIPTION:Come and shoot skeet before the Club Social! \nRight before the social\, you can purchase 1 or 2 skeet tokens at the club rate for the event. Not a free shoot\, but a great group of people to be with! \nLocation – Skeet Field 5
URL:https://diablorodandgun.com/event/diablo-members-skeet-2-2/2027-08-17/
LOCATION:USI Skeet Fields
ORGANIZER;CN="Martin O'Connor":MAILTO:Membership@Diablorodandgun.com
END:VEVENT
BEGIN:VEVENT
DTSTART;TZID=America/Los_Angeles:20270921T160000
DTEND;TZID=America/Los_Angeles:20270921T173000
DTSTAMP:20260425T055938
CREATED:20241221T010910Z
LAST-MODIFIED:20241221T010910Z
UID:10003048-1821542400-1821547800@diablorodandgun.com
SUMMARY:Pre-Social Diablo Members Skeet
DESCRIPTION:Come and shoot skeet before the Club Social! \nRight before the social\, you can purchase 1 or 2 skeet tokens at the club rate for the event. Not a free shoot\, but a great group of people to be with! \nLocation – Skeet Field 5
URL:https://diablorodandgun.com/event/diablo-members-skeet-2-2/2027-09-21/
LOCATION:USI Skeet Fields
ORGANIZER;CN="Martin O'Connor":MAILTO:Membership@Diablorodandgun.com
END:VEVENT
BEGIN:VEVENT
DTSTART;TZID=America/Los_Angeles:20271019T160000
DTEND;TZID=America/Los_Angeles:20271019T173000
DTSTAMP:20260425T055938
CREATED:20241221T010910Z
LAST-MODIFIED:20241221T010910Z
UID:10003049-1823961600-1823967000@diablorodandgun.com
SUMMARY:Pre-Social Diablo Members Skeet
DESCRIPTION:Come and shoot skeet before the Club Social! \nRight before the social\, you can purchase 1 or 2 skeet tokens at the club rate for the event. Not a free shoot\, but a great group of people to be with! \nLocation – Skeet Field 5
URL:https://diablorodandgun.com/event/diablo-members-skeet-2-2/2027-10-19/
LOCATION:USI Skeet Fields
ORGANIZER;CN="Martin O'Connor":MAILTO:Membership@Diablorodandgun.com
END:VEVENT
BEGIN:VEVENT
DTSTART;TZID=America/Los_Angeles:20271116T160000
DTEND;TZID=America/Los_Angeles:20271116T173000
DTSTAMP:20260425T055938
CREATED:20241221T010910Z
LAST-MODIFIED:20241221T010910Z
UID:10003050-1826380800-1826386200@diablorodandgun.com
SUMMARY:Pre-Social Diablo Members Skeet
DESCRIPTION:Come and shoot skeet before the Club Social! \nRight before the social\, you can purchase 1 or 2 skeet tokens at the club rate for the event. Not a free shoot\, but a great group of people to be with! \nLocation – Skeet Field 5
URL:https://diablorodandgun.com/event/diablo-members-skeet-2-2/2027-11-16/
LOCATION:USI Skeet Fields
ORGANIZER;CN="Martin O'Connor":MAILTO:Membership@Diablorodandgun.com
END:VEVENT
BEGIN:VEVENT
DTSTART;TZID=America/Los_Angeles:20271221T160000
DTEND;TZID=America/Los_Angeles:20271221T173000
DTSTAMP:20260425T055938
CREATED:20241221T010910Z
LAST-MODIFIED:20241221T010910Z
UID:10003051-1829404800-1829410200@diablorodandgun.com
SUMMARY:Pre-Social Diablo Members Skeet
DESCRIPTION:Come and shoot skeet before the Club Social! \nRight before the social\, you can purchase 1 or 2 skeet tokens at the club rate for the event. Not a free shoot\, but a great group of people to be with! \nLocation – Skeet Field 5
URL:https://diablorodandgun.com/event/diablo-members-skeet-2-2/2027-12-21/
LOCATION:USI Skeet Fields
ORGANIZER;CN="Martin O'Connor":MAILTO:Membership@Diablorodandgun.com
END:VEVENT
BEGIN:VEVENT
DTSTART;TZID=America/Los_Angeles:20280118T160000
DTEND;TZID=America/Los_Angeles:20280118T173000
DTSTAMP:20260425T055938
CREATED:20241221T010910Z
LAST-MODIFIED:20241221T010910Z
UID:10003052-1831824000-1831829400@diablorodandgun.com
SUMMARY:Pre-Social Diablo Members Skeet
DESCRIPTION:Come and shoot skeet before the Club Social! \nRight before the social\, you can purchase 1 or 2 skeet tokens at the club rate for the event. Not a free shoot\, but a great group of people to be with! \nLocation – Skeet Field 5
URL:https://diablorodandgun.com/event/diablo-members-skeet-2-2/2028-01-18/
LOCATION:USI Skeet Fields
ORGANIZER;CN="Martin O'Connor":MAILTO:Membership@Diablorodandgun.com
END:VEVENT
BEGIN:VEVENT
DTSTART;TZID=America/Los_Angeles:20280215T160000
DTEND;TZID=America/Los_Angeles:20280215T173000
DTSTAMP:20260425T055938
CREATED:20241221T010910Z
LAST-MODIFIED:20241221T010910Z
UID:10003053-1834243200-1834248600@diablorodandgun.com
SUMMARY:Pre-Social Diablo Members Skeet
DESCRIPTION:Come and shoot skeet before the Club Social! \nRight before the social\, you can purchase 1 or 2 skeet tokens at the club rate for the event. Not a free shoot\, but a great group of people to be with! \nLocation – Skeet Field 5
URL:https://diablorodandgun.com/event/diablo-members-skeet-2-2/2028-02-15/
LOCATION:USI Skeet Fields
ORGANIZER;CN="Martin O'Connor":MAILTO:Membership@Diablorodandgun.com
END:VEVENT
BEGIN:VEVENT
DTSTART;TZID=America/Los_Angeles:20280321T160000
DTEND;TZID=America/Los_Angeles:20280321T173000
DTSTAMP:20260425T055938
CREATED:20241221T010910Z
LAST-MODIFIED:20241221T010910Z
UID:10003054-1837267200-1837272600@diablorodandgun.com
SUMMARY:Pre-Social Diablo Members Skeet
DESCRIPTION:Come and shoot skeet before the Club Social! \nRight before the social\, you can purchase 1 or 2 skeet tokens at the club rate for the event. Not a free shoot\, but a great group of people to be with! \nLocation – Skeet Field 5
URL:https://diablorodandgun.com/event/diablo-members-skeet-2-2/2028-03-21/
LOCATION:USI Skeet Fields
ORGANIZER;CN="Martin O'Connor":MAILTO:Membership@Diablorodandgun.com
END:VEVENT
BEGIN:VEVENT
DTSTART;TZID=America/Los_Angeles:20280418T160000
DTEND;TZID=America/Los_Angeles:20280418T173000
DTSTAMP:20260425T055938
CREATED:20241221T010910Z
LAST-MODIFIED:20241221T010910Z
UID:10003055-1839686400-1839691800@diablorodandgun.com
SUMMARY:Pre-Social Diablo Members Skeet
DESCRIPTION:Come and shoot skeet before the Club Social! \nRight before the social\, you can purchase 1 or 2 skeet tokens at the club rate for the event. Not a free shoot\, but a great group of people to be with! \nLocation – Skeet Field 5
URL:https://diablorodandgun.com/event/diablo-members-skeet-2-2/2028-04-18/
LOCATION:USI Skeet Fields
ORGANIZER;CN="Martin O'Connor":MAILTO:Membership@Diablorodandgun.com
END:VEVENT
BEGIN:VEVENT
DTSTART;TZID=America/Los_Angeles:20280516T160000
DTEND;TZID=America/Los_Angeles:20280516T173000
DTSTAMP:20260425T055938
CREATED:20241221T010910Z
LAST-MODIFIED:20241221T010910Z
UID:10003056-1842105600-1842111000@diablorodandgun.com
SUMMARY:Pre-Social Diablo Members Skeet
DESCRIPTION:Come and shoot skeet before the Club Social! \nRight before the social\, you can purchase 1 or 2 skeet tokens at the club rate for the event. Not a free shoot\, but a great group of people to be with! \nLocation – Skeet Field 5
URL:https://diablorodandgun.com/event/diablo-members-skeet-2-2/2028-05-16/
LOCATION:USI Skeet Fields
ORGANIZER;CN="Martin O'Connor":MAILTO:Membership@Diablorodandgun.com
END:VEVENT
BEGIN:VEVENT
DTSTART;TZID=America/Los_Angeles:20280620T160000
DTEND;TZID=America/Los_Angeles:20280620T173000
DTSTAMP:20260425T055938
CREATED:20241221T010910Z
LAST-MODIFIED:20241221T010910Z
UID:10003057-1845129600-1845135000@diablorodandgun.com
SUMMARY:Pre-Social Diablo Members Skeet
DESCRIPTION:Come and shoot skeet before the Club Social! \nRight before the social\, you can purchase 1 or 2 skeet tokens at the club rate for the event. Not a free shoot\, but a great group of people to be with! \nLocation – Skeet Field 5
URL:https://diablorodandgun.com/event/diablo-members-skeet-2-2/2028-06-20/
LOCATION:USI Skeet Fields
ORGANIZER;CN="Martin O'Connor":MAILTO:Membership@Diablorodandgun.com
END:VEVENT
BEGIN:VEVENT
DTSTART;TZID=America/Los_Angeles:20280718T160000
DTEND;TZID=America/Los_Angeles:20280718T173000
DTSTAMP:20260425T055938
CREATED:20241221T010910Z
LAST-MODIFIED:20241221T010910Z
UID:10003058-1847548800-1847554200@diablorodandgun.com
SUMMARY:Pre-Social Diablo Members Skeet
DESCRIPTION:Come and shoot skeet before the Club Social! \nRight before the social\, you can purchase 1 or 2 skeet tokens at the club rate for the event. Not a free shoot\, but a great group of people to be with! \nLocation – Skeet Field 5
URL:https://diablorodandgun.com/event/diablo-members-skeet-2-2/2028-07-18/
LOCATION:USI Skeet Fields
ORGANIZER;CN="Martin O'Connor":MAILTO:Membership@Diablorodandgun.com
END:VEVENT
BEGIN:VEVENT
DTSTART;TZID=America/Los_Angeles:20280815T160000
DTEND;TZID=America/Los_Angeles:20280815T173000
DTSTAMP:20260425T055938
CREATED:20241221T010910Z
LAST-MODIFIED:20241221T010910Z
UID:10003059-1849968000-1849973400@diablorodandgun.com
SUMMARY:Pre-Social Diablo Members Skeet
DESCRIPTION:Come and shoot skeet before the Club Social! \nRight before the social\, you can purchase 1 or 2 skeet tokens at the club rate for the event. Not a free shoot\, but a great group of people to be with! \nLocation – Skeet Field 5
URL:https://diablorodandgun.com/event/diablo-members-skeet-2-2/2028-08-15/
LOCATION:USI Skeet Fields
ORGANIZER;CN="Martin O'Connor":MAILTO:Membership@Diablorodandgun.com
END:VEVENT
BEGIN:VEVENT
DTSTART;TZID=America/Los_Angeles:20280919T160000
DTEND;TZID=America/Los_Angeles:20280919T173000
DTSTAMP:20260425T055938
CREATED:20241221T010910Z
LAST-MODIFIED:20241221T010910Z
UID:10003060-1852992000-1852997400@diablorodandgun.com
SUMMARY:Pre-Social Diablo Members Skeet
DESCRIPTION:Come and shoot skeet before the Club Social! \nRight before the social\, you can purchase 1 or 2 skeet tokens at the club rate for the event. Not a free shoot\, but a great group of people to be with! \nLocation – Skeet Field 5
URL:https://diablorodandgun.com/event/diablo-members-skeet-2-2/2028-09-19/
LOCATION:USI Skeet Fields
ORGANIZER;CN="Martin O'Connor":MAILTO:Membership@Diablorodandgun.com
END:VEVENT
BEGIN:VEVENT
DTSTART;TZID=America/Los_Angeles:20281017T160000
DTEND;TZID=America/Los_Angeles:20281017T173000
DTSTAMP:20260425T055938
CREATED:20241221T010910Z
LAST-MODIFIED:20241221T010910Z
UID:10003061-1855411200-1855416600@diablorodandgun.com
SUMMARY:Pre-Social Diablo Members Skeet
DESCRIPTION:Come and shoot skeet before the Club Social! \nRight before the social\, you can purchase 1 or 2 skeet tokens at the club rate for the event. Not a free shoot\, but a great group of people to be with! \nLocation – Skeet Field 5
URL:https://diablorodandgun.com/event/diablo-members-skeet-2-2/2028-10-17/
LOCATION:USI Skeet Fields
ORGANIZER;CN="Martin O'Connor":MAILTO:Membership@Diablorodandgun.com
END:VEVENT
END:VCALENDAR