BEGIN:VCALENDAR
VERSION:2.0
PRODID:-//Diablo Rod and Gun Club - ECPv6.15.20//NONSGML v1.0//EN
CALSCALE:GREGORIAN
METHOD:PUBLISH
X-WR-CALNAME:Diablo Rod and Gun Club
X-ORIGINAL-URL:https://diablorodandgun.com
X-WR-CALDESC:Events for Diablo Rod and Gun Club
REFRESH-INTERVAL;VALUE=DURATION:PT1H
X-Robots-Tag:noindex
X-PUBLISHED-TTL:PT1H
BEGIN:VTIMEZONE
TZID:America/Los_Angeles
BEGIN:DAYLIGHT
TZOFFSETFROM:-0800
TZOFFSETTO:-0700
TZNAME:PDT
DTSTART:20250309T100000
END:DAYLIGHT
BEGIN:STANDARD
TZOFFSETFROM:-0700
TZOFFSETTO:-0800
TZNAME:PST
DTSTART:20251102T090000
END:STANDARD
BEGIN:DAYLIGHT
TZOFFSETFROM:-0800
TZOFFSETTO:-0700
TZNAME:PDT
DTSTART:20260308T100000
END:DAYLIGHT
BEGIN:STANDARD
TZOFFSETFROM:-0700
TZOFFSETTO:-0800
TZNAME:PST
DTSTART:20261101T090000
END:STANDARD
BEGIN:DAYLIGHT
TZOFFSETFROM:-0800
TZOFFSETTO:-0700
TZNAME:PDT
DTSTART:20270314T100000
END:DAYLIGHT
BEGIN:STANDARD
TZOFFSETFROM:-0700
TZOFFSETTO:-0800
TZNAME:PST
DTSTART:20271107T090000
END:STANDARD
BEGIN:DAYLIGHT
TZOFFSETFROM:-0800
TZOFFSETTO:-0700
TZNAME:PDT
DTSTART:20280312T100000
END:DAYLIGHT
BEGIN:STANDARD
TZOFFSETFROM:-0700
TZOFFSETTO:-0800
TZNAME:PST
DTSTART:20281105T090000
END:STANDARD
END:VTIMEZONE
BEGIN:VEVENT
DTSTART;TZID=America/Los_Angeles:20260517T080000
DTEND;TZID=America/Los_Angeles:20260517T120000
DTSTAMP:20260424T181725
CREATED:20251220T233637Z
LAST-MODIFIED:20251220T233637Z
UID:10005565-1779004800-1779019200@diablorodandgun.com
SUMMARY:Airgun - Field Target
DESCRIPTION:Airgun Field Target is an outdoor venue\, utilizing precision high-power air rifles (sometimes air pistols). The reactionary\, steel animal targets are designed to fall only when the pellet hits the “Kill Zone”\, requiring target-rifle accuracy. Targets are then re-set with a cord from the shooting position. The distance to the targets varies and is unknown\, adding an element of range-finding ability (similar to hunting in the field). All types of air rifles may be used\, up to .22 cal\,  (but NO BB’s) and we do have some loaners available. Junior shooters are welcome and as always\, they shoot FREE when accompanied by an adult club member. \nAirguns have grown up…….Give it a try ! We shoot in all weather\, except for the atypical Lightning storm.
URL:https://diablorodandgun.com/event/airgun-field-target-2/2026-05-17/
LOCATION:USI Multi Purpose Range\, 4700 Evora Road\, Concord\, CA\, 94520
CATEGORIES:Airgun
ATTACH;FMTTYPE=image/png:https://diablorodandgun.com/wp-content/uploads/2025/12/fieldtargetguns580.png
ORGANIZER;CN="Sam Russo":MAILTO:airgun_fieldtarget@diablorodandgun.com
GEO:38.0181978;-121.9914105
X-APPLE-STRUCTURED-LOCATION;VALUE=URI;X-ADDRESS=USI Multi Purpose Range 4700 Evora Road Concord CA 94520;X-APPLE-RADIUS=500;X-TITLE=4700 Evora Road:geo:-121.9914105,38.0181978
END:VEVENT
BEGIN:VEVENT
DTSTART;TZID=America/Los_Angeles:20260621T080000
DTEND;TZID=America/Los_Angeles:20260621T120000
DTSTAMP:20260424T181725
CREATED:20251220T233637Z
LAST-MODIFIED:20251220T233637Z
UID:10005566-1782028800-1782043200@diablorodandgun.com
SUMMARY:Airgun - Field Target
DESCRIPTION:Airgun Field Target is an outdoor venue\, utilizing precision high-power air rifles (sometimes air pistols). The reactionary\, steel animal targets are designed to fall only when the pellet hits the “Kill Zone”\, requiring target-rifle accuracy. Targets are then re-set with a cord from the shooting position. The distance to the targets varies and is unknown\, adding an element of range-finding ability (similar to hunting in the field). All types of air rifles may be used\, up to .22 cal\,  (but NO BB’s) and we do have some loaners available. Junior shooters are welcome and as always\, they shoot FREE when accompanied by an adult club member. \nAirguns have grown up…….Give it a try ! We shoot in all weather\, except for the atypical Lightning storm.
URL:https://diablorodandgun.com/event/airgun-field-target-2/2026-06-21/
LOCATION:USI Multi Purpose Range\, 4700 Evora Road\, Concord\, CA\, 94520
CATEGORIES:Airgun
ATTACH;FMTTYPE=image/png:https://diablorodandgun.com/wp-content/uploads/2025/12/fieldtargetguns580.png
ORGANIZER;CN="Sam Russo":MAILTO:airgun_fieldtarget@diablorodandgun.com
GEO:38.0181978;-121.9914105
X-APPLE-STRUCTURED-LOCATION;VALUE=URI;X-ADDRESS=USI Multi Purpose Range 4700 Evora Road Concord CA 94520;X-APPLE-RADIUS=500;X-TITLE=4700 Evora Road:geo:-121.9914105,38.0181978
END:VEVENT
BEGIN:VEVENT
DTSTART;TZID=America/Los_Angeles:20260719T080000
DTEND;TZID=America/Los_Angeles:20260719T120000
DTSTAMP:20260424T181725
CREATED:20251220T233637Z
LAST-MODIFIED:20251220T233637Z
UID:10005567-1784448000-1784462400@diablorodandgun.com
SUMMARY:Airgun - Field Target
DESCRIPTION:Airgun Field Target is an outdoor venue\, utilizing precision high-power air rifles (sometimes air pistols). The reactionary\, steel animal targets are designed to fall only when the pellet hits the “Kill Zone”\, requiring target-rifle accuracy. Targets are then re-set with a cord from the shooting position. The distance to the targets varies and is unknown\, adding an element of range-finding ability (similar to hunting in the field). All types of air rifles may be used\, up to .22 cal\,  (but NO BB’s) and we do have some loaners available. Junior shooters are welcome and as always\, they shoot FREE when accompanied by an adult club member. \nAirguns have grown up…….Give it a try ! We shoot in all weather\, except for the atypical Lightning storm.
URL:https://diablorodandgun.com/event/airgun-field-target-2/2026-07-19/
LOCATION:USI Multi Purpose Range\, 4700 Evora Road\, Concord\, CA\, 94520
CATEGORIES:Airgun
ATTACH;FMTTYPE=image/png:https://diablorodandgun.com/wp-content/uploads/2025/12/fieldtargetguns580.png
ORGANIZER;CN="Sam Russo":MAILTO:airgun_fieldtarget@diablorodandgun.com
GEO:38.0181978;-121.9914105
X-APPLE-STRUCTURED-LOCATION;VALUE=URI;X-ADDRESS=USI Multi Purpose Range 4700 Evora Road Concord CA 94520;X-APPLE-RADIUS=500;X-TITLE=4700 Evora Road:geo:-121.9914105,38.0181978
END:VEVENT
BEGIN:VEVENT
DTSTART;TZID=America/Los_Angeles:20260816T080000
DTEND;TZID=America/Los_Angeles:20260816T120000
DTSTAMP:20260424T181725
CREATED:20251220T233637Z
LAST-MODIFIED:20251220T233637Z
UID:10005568-1786867200-1786881600@diablorodandgun.com
SUMMARY:Airgun - Field Target
DESCRIPTION:Airgun Field Target is an outdoor venue\, utilizing precision high-power air rifles (sometimes air pistols). The reactionary\, steel animal targets are designed to fall only when the pellet hits the “Kill Zone”\, requiring target-rifle accuracy. Targets are then re-set with a cord from the shooting position. The distance to the targets varies and is unknown\, adding an element of range-finding ability (similar to hunting in the field). All types of air rifles may be used\, up to .22 cal\,  (but NO BB’s) and we do have some loaners available. Junior shooters are welcome and as always\, they shoot FREE when accompanied by an adult club member. \nAirguns have grown up…….Give it a try ! We shoot in all weather\, except for the atypical Lightning storm.
URL:https://diablorodandgun.com/event/airgun-field-target-2/2026-08-16/
LOCATION:USI Multi Purpose Range\, 4700 Evora Road\, Concord\, CA\, 94520
CATEGORIES:Airgun
ATTACH;FMTTYPE=image/png:https://diablorodandgun.com/wp-content/uploads/2025/12/fieldtargetguns580.png
ORGANIZER;CN="Sam Russo":MAILTO:airgun_fieldtarget@diablorodandgun.com
GEO:38.0181978;-121.9914105
X-APPLE-STRUCTURED-LOCATION;VALUE=URI;X-ADDRESS=USI Multi Purpose Range 4700 Evora Road Concord CA 94520;X-APPLE-RADIUS=500;X-TITLE=4700 Evora Road:geo:-121.9914105,38.0181978
END:VEVENT
BEGIN:VEVENT
DTSTART;TZID=America/Los_Angeles:20260920T080000
DTEND;TZID=America/Los_Angeles:20260920T120000
DTSTAMP:20260424T181725
CREATED:20251220T233637Z
LAST-MODIFIED:20251220T233637Z
UID:10005569-1789891200-1789905600@diablorodandgun.com
SUMMARY:Airgun - Field Target
DESCRIPTION:Airgun Field Target is an outdoor venue\, utilizing precision high-power air rifles (sometimes air pistols). The reactionary\, steel animal targets are designed to fall only when the pellet hits the “Kill Zone”\, requiring target-rifle accuracy. Targets are then re-set with a cord from the shooting position. The distance to the targets varies and is unknown\, adding an element of range-finding ability (similar to hunting in the field). All types of air rifles may be used\, up to .22 cal\,  (but NO BB’s) and we do have some loaners available. Junior shooters are welcome and as always\, they shoot FREE when accompanied by an adult club member. \nAirguns have grown up…….Give it a try ! We shoot in all weather\, except for the atypical Lightning storm.
URL:https://diablorodandgun.com/event/airgun-field-target-2/2026-09-20/
LOCATION:USI Multi Purpose Range\, 4700 Evora Road\, Concord\, CA\, 94520
CATEGORIES:Airgun
ATTACH;FMTTYPE=image/png:https://diablorodandgun.com/wp-content/uploads/2025/12/fieldtargetguns580.png
ORGANIZER;CN="Sam Russo":MAILTO:airgun_fieldtarget@diablorodandgun.com
GEO:38.0181978;-121.9914105
X-APPLE-STRUCTURED-LOCATION;VALUE=URI;X-ADDRESS=USI Multi Purpose Range 4700 Evora Road Concord CA 94520;X-APPLE-RADIUS=500;X-TITLE=4700 Evora Road:geo:-121.9914105,38.0181978
END:VEVENT
BEGIN:VEVENT
DTSTART;TZID=America/Los_Angeles:20261018T080000
DTEND;TZID=America/Los_Angeles:20261018T120000
DTSTAMP:20260424T181725
CREATED:20251220T233637Z
LAST-MODIFIED:20251220T233637Z
UID:10005570-1792310400-1792324800@diablorodandgun.com
SUMMARY:Airgun - Field Target
DESCRIPTION:Airgun Field Target is an outdoor venue\, utilizing precision high-power air rifles (sometimes air pistols). The reactionary\, steel animal targets are designed to fall only when the pellet hits the “Kill Zone”\, requiring target-rifle accuracy. Targets are then re-set with a cord from the shooting position. The distance to the targets varies and is unknown\, adding an element of range-finding ability (similar to hunting in the field). All types of air rifles may be used\, up to .22 cal\,  (but NO BB’s) and we do have some loaners available. Junior shooters are welcome and as always\, they shoot FREE when accompanied by an adult club member. \nAirguns have grown up…….Give it a try ! We shoot in all weather\, except for the atypical Lightning storm.
URL:https://diablorodandgun.com/event/airgun-field-target-2/2026-10-18/
LOCATION:USI Multi Purpose Range\, 4700 Evora Road\, Concord\, CA\, 94520
CATEGORIES:Airgun
ATTACH;FMTTYPE=image/png:https://diablorodandgun.com/wp-content/uploads/2025/12/fieldtargetguns580.png
ORGANIZER;CN="Sam Russo":MAILTO:airgun_fieldtarget@diablorodandgun.com
GEO:38.0181978;-121.9914105
X-APPLE-STRUCTURED-LOCATION;VALUE=URI;X-ADDRESS=USI Multi Purpose Range 4700 Evora Road Concord CA 94520;X-APPLE-RADIUS=500;X-TITLE=4700 Evora Road:geo:-121.9914105,38.0181978
END:VEVENT
BEGIN:VEVENT
DTSTART;TZID=America/Los_Angeles:20261115T080000
DTEND;TZID=America/Los_Angeles:20261115T120000
DTSTAMP:20260424T181725
CREATED:20251220T233637Z
LAST-MODIFIED:20251220T233637Z
UID:10005571-1794729600-1794744000@diablorodandgun.com
SUMMARY:Airgun - Field Target
DESCRIPTION:Airgun Field Target is an outdoor venue\, utilizing precision high-power air rifles (sometimes air pistols). The reactionary\, steel animal targets are designed to fall only when the pellet hits the “Kill Zone”\, requiring target-rifle accuracy. Targets are then re-set with a cord from the shooting position. The distance to the targets varies and is unknown\, adding an element of range-finding ability (similar to hunting in the field). All types of air rifles may be used\, up to .22 cal\,  (but NO BB’s) and we do have some loaners available. Junior shooters are welcome and as always\, they shoot FREE when accompanied by an adult club member. \nAirguns have grown up…….Give it a try ! We shoot in all weather\, except for the atypical Lightning storm.
URL:https://diablorodandgun.com/event/airgun-field-target-2/2026-11-15/
LOCATION:USI Multi Purpose Range\, 4700 Evora Road\, Concord\, CA\, 94520
CATEGORIES:Airgun
ATTACH;FMTTYPE=image/png:https://diablorodandgun.com/wp-content/uploads/2025/12/fieldtargetguns580.png
ORGANIZER;CN="Sam Russo":MAILTO:airgun_fieldtarget@diablorodandgun.com
GEO:38.0181978;-121.9914105
X-APPLE-STRUCTURED-LOCATION;VALUE=URI;X-ADDRESS=USI Multi Purpose Range 4700 Evora Road Concord CA 94520;X-APPLE-RADIUS=500;X-TITLE=4700 Evora Road:geo:-121.9914105,38.0181978
END:VEVENT
BEGIN:VEVENT
DTSTART;TZID=America/Los_Angeles:20261220T080000
DTEND;TZID=America/Los_Angeles:20261220T120000
DTSTAMP:20260424T181725
CREATED:20251220T233637Z
LAST-MODIFIED:20251220T233637Z
UID:10005572-1797753600-1797768000@diablorodandgun.com
SUMMARY:Airgun - Field Target
DESCRIPTION:Airgun Field Target is an outdoor venue\, utilizing precision high-power air rifles (sometimes air pistols). The reactionary\, steel animal targets are designed to fall only when the pellet hits the “Kill Zone”\, requiring target-rifle accuracy. Targets are then re-set with a cord from the shooting position. The distance to the targets varies and is unknown\, adding an element of range-finding ability (similar to hunting in the field). All types of air rifles may be used\, up to .22 cal\,  (but NO BB’s) and we do have some loaners available. Junior shooters are welcome and as always\, they shoot FREE when accompanied by an adult club member. \nAirguns have grown up…….Give it a try ! We shoot in all weather\, except for the atypical Lightning storm.
URL:https://diablorodandgun.com/event/airgun-field-target-2/2026-12-20/
LOCATION:USI Multi Purpose Range\, 4700 Evora Road\, Concord\, CA\, 94520
CATEGORIES:Airgun
ATTACH;FMTTYPE=image/png:https://diablorodandgun.com/wp-content/uploads/2025/12/fieldtargetguns580.png
ORGANIZER;CN="Sam Russo":MAILTO:airgun_fieldtarget@diablorodandgun.com
GEO:38.0181978;-121.9914105
X-APPLE-STRUCTURED-LOCATION;VALUE=URI;X-ADDRESS=USI Multi Purpose Range 4700 Evora Road Concord CA 94520;X-APPLE-RADIUS=500;X-TITLE=4700 Evora Road:geo:-121.9914105,38.0181978
END:VEVENT
BEGIN:VEVENT
DTSTART;TZID=America/Los_Angeles:20270117T080000
DTEND;TZID=America/Los_Angeles:20270117T120000
DTSTAMP:20260424T181725
CREATED:20251220T233637Z
LAST-MODIFIED:20251220T233637Z
UID:10005573-1800172800-1800187200@diablorodandgun.com
SUMMARY:Airgun - Field Target
DESCRIPTION:Airgun Field Target is an outdoor venue\, utilizing precision high-power air rifles (sometimes air pistols). The reactionary\, steel animal targets are designed to fall only when the pellet hits the “Kill Zone”\, requiring target-rifle accuracy. Targets are then re-set with a cord from the shooting position. The distance to the targets varies and is unknown\, adding an element of range-finding ability (similar to hunting in the field). All types of air rifles may be used\, up to .22 cal\,  (but NO BB’s) and we do have some loaners available. Junior shooters are welcome and as always\, they shoot FREE when accompanied by an adult club member. \nAirguns have grown up…….Give it a try ! We shoot in all weather\, except for the atypical Lightning storm.
URL:https://diablorodandgun.com/event/airgun-field-target-2/2027-01-17/
LOCATION:USI Multi Purpose Range\, 4700 Evora Road\, Concord\, CA\, 94520
CATEGORIES:Airgun
ATTACH;FMTTYPE=image/png:https://diablorodandgun.com/wp-content/uploads/2025/12/fieldtargetguns580.png
ORGANIZER;CN="Sam Russo":MAILTO:airgun_fieldtarget@diablorodandgun.com
GEO:38.0181978;-121.9914105
X-APPLE-STRUCTURED-LOCATION;VALUE=URI;X-ADDRESS=USI Multi Purpose Range 4700 Evora Road Concord CA 94520;X-APPLE-RADIUS=500;X-TITLE=4700 Evora Road:geo:-121.9914105,38.0181978
END:VEVENT
BEGIN:VEVENT
DTSTART;TZID=America/Los_Angeles:20270221T080000
DTEND;TZID=America/Los_Angeles:20270221T120000
DTSTAMP:20260424T181725
CREATED:20251220T233637Z
LAST-MODIFIED:20251220T233637Z
UID:10005574-1803196800-1803211200@diablorodandgun.com
SUMMARY:Airgun - Field Target
DESCRIPTION:Airgun Field Target is an outdoor venue\, utilizing precision high-power air rifles (sometimes air pistols). The reactionary\, steel animal targets are designed to fall only when the pellet hits the “Kill Zone”\, requiring target-rifle accuracy. Targets are then re-set with a cord from the shooting position. The distance to the targets varies and is unknown\, adding an element of range-finding ability (similar to hunting in the field). All types of air rifles may be used\, up to .22 cal\,  (but NO BB’s) and we do have some loaners available. Junior shooters are welcome and as always\, they shoot FREE when accompanied by an adult club member. \nAirguns have grown up…….Give it a try ! We shoot in all weather\, except for the atypical Lightning storm.
URL:https://diablorodandgun.com/event/airgun-field-target-2/2027-02-21/
LOCATION:USI Multi Purpose Range\, 4700 Evora Road\, Concord\, CA\, 94520
CATEGORIES:Airgun
ATTACH;FMTTYPE=image/png:https://diablorodandgun.com/wp-content/uploads/2025/12/fieldtargetguns580.png
ORGANIZER;CN="Sam Russo":MAILTO:airgun_fieldtarget@diablorodandgun.com
GEO:38.0181978;-121.9914105
X-APPLE-STRUCTURED-LOCATION;VALUE=URI;X-ADDRESS=USI Multi Purpose Range 4700 Evora Road Concord CA 94520;X-APPLE-RADIUS=500;X-TITLE=4700 Evora Road:geo:-121.9914105,38.0181978
END:VEVENT
BEGIN:VEVENT
DTSTART;TZID=America/Los_Angeles:20270321T080000
DTEND;TZID=America/Los_Angeles:20270321T120000
DTSTAMP:20260424T181725
CREATED:20251220T233637Z
LAST-MODIFIED:20251220T233637Z
UID:10005575-1805616000-1805630400@diablorodandgun.com
SUMMARY:Airgun - Field Target
DESCRIPTION:Airgun Field Target is an outdoor venue\, utilizing precision high-power air rifles (sometimes air pistols). The reactionary\, steel animal targets are designed to fall only when the pellet hits the “Kill Zone”\, requiring target-rifle accuracy. Targets are then re-set with a cord from the shooting position. The distance to the targets varies and is unknown\, adding an element of range-finding ability (similar to hunting in the field). All types of air rifles may be used\, up to .22 cal\,  (but NO BB’s) and we do have some loaners available. Junior shooters are welcome and as always\, they shoot FREE when accompanied by an adult club member. \nAirguns have grown up…….Give it a try ! We shoot in all weather\, except for the atypical Lightning storm.
URL:https://diablorodandgun.com/event/airgun-field-target-2/2027-03-21/
LOCATION:USI Multi Purpose Range\, 4700 Evora Road\, Concord\, CA\, 94520
CATEGORIES:Airgun
ATTACH;FMTTYPE=image/png:https://diablorodandgun.com/wp-content/uploads/2025/12/fieldtargetguns580.png
ORGANIZER;CN="Sam Russo":MAILTO:airgun_fieldtarget@diablorodandgun.com
GEO:38.0181978;-121.9914105
X-APPLE-STRUCTURED-LOCATION;VALUE=URI;X-ADDRESS=USI Multi Purpose Range 4700 Evora Road Concord CA 94520;X-APPLE-RADIUS=500;X-TITLE=4700 Evora Road:geo:-121.9914105,38.0181978
END:VEVENT
BEGIN:VEVENT
DTSTART;TZID=America/Los_Angeles:20270418T080000
DTEND;TZID=America/Los_Angeles:20270418T120000
DTSTAMP:20260424T181725
CREATED:20251220T233637Z
LAST-MODIFIED:20251220T233637Z
UID:10005576-1808035200-1808049600@diablorodandgun.com
SUMMARY:Airgun - Field Target
DESCRIPTION:Airgun Field Target is an outdoor venue\, utilizing precision high-power air rifles (sometimes air pistols). The reactionary\, steel animal targets are designed to fall only when the pellet hits the “Kill Zone”\, requiring target-rifle accuracy. Targets are then re-set with a cord from the shooting position. The distance to the targets varies and is unknown\, adding an element of range-finding ability (similar to hunting in the field). All types of air rifles may be used\, up to .22 cal\,  (but NO BB’s) and we do have some loaners available. Junior shooters are welcome and as always\, they shoot FREE when accompanied by an adult club member. \nAirguns have grown up…….Give it a try ! We shoot in all weather\, except for the atypical Lightning storm.
URL:https://diablorodandgun.com/event/airgun-field-target-2/2027-04-18/
LOCATION:USI Multi Purpose Range\, 4700 Evora Road\, Concord\, CA\, 94520
CATEGORIES:Airgun
ATTACH;FMTTYPE=image/png:https://diablorodandgun.com/wp-content/uploads/2025/12/fieldtargetguns580.png
ORGANIZER;CN="Sam Russo":MAILTO:airgun_fieldtarget@diablorodandgun.com
GEO:38.0181978;-121.9914105
X-APPLE-STRUCTURED-LOCATION;VALUE=URI;X-ADDRESS=USI Multi Purpose Range 4700 Evora Road Concord CA 94520;X-APPLE-RADIUS=500;X-TITLE=4700 Evora Road:geo:-121.9914105,38.0181978
END:VEVENT
BEGIN:VEVENT
DTSTART;TZID=America/Los_Angeles:20270516T080000
DTEND;TZID=America/Los_Angeles:20270516T120000
DTSTAMP:20260424T181725
CREATED:20251220T233637Z
LAST-MODIFIED:20251220T233637Z
UID:10005577-1810454400-1810468800@diablorodandgun.com
SUMMARY:Airgun - Field Target
DESCRIPTION:Airgun Field Target is an outdoor venue\, utilizing precision high-power air rifles (sometimes air pistols). The reactionary\, steel animal targets are designed to fall only when the pellet hits the “Kill Zone”\, requiring target-rifle accuracy. Targets are then re-set with a cord from the shooting position. The distance to the targets varies and is unknown\, adding an element of range-finding ability (similar to hunting in the field). All types of air rifles may be used\, up to .22 cal\,  (but NO BB’s) and we do have some loaners available. Junior shooters are welcome and as always\, they shoot FREE when accompanied by an adult club member. \nAirguns have grown up…….Give it a try ! We shoot in all weather\, except for the atypical Lightning storm.
URL:https://diablorodandgun.com/event/airgun-field-target-2/2027-05-16/
LOCATION:USI Multi Purpose Range\, 4700 Evora Road\, Concord\, CA\, 94520
CATEGORIES:Airgun
ATTACH;FMTTYPE=image/png:https://diablorodandgun.com/wp-content/uploads/2025/12/fieldtargetguns580.png
ORGANIZER;CN="Sam Russo":MAILTO:airgun_fieldtarget@diablorodandgun.com
GEO:38.0181978;-121.9914105
X-APPLE-STRUCTURED-LOCATION;VALUE=URI;X-ADDRESS=USI Multi Purpose Range 4700 Evora Road Concord CA 94520;X-APPLE-RADIUS=500;X-TITLE=4700 Evora Road:geo:-121.9914105,38.0181978
END:VEVENT
BEGIN:VEVENT
DTSTART;TZID=America/Los_Angeles:20270620T080000
DTEND;TZID=America/Los_Angeles:20270620T120000
DTSTAMP:20260424T181725
CREATED:20251220T233637Z
LAST-MODIFIED:20251220T233637Z
UID:10005578-1813478400-1813492800@diablorodandgun.com
SUMMARY:Airgun - Field Target
DESCRIPTION:Airgun Field Target is an outdoor venue\, utilizing precision high-power air rifles (sometimes air pistols). The reactionary\, steel animal targets are designed to fall only when the pellet hits the “Kill Zone”\, requiring target-rifle accuracy. Targets are then re-set with a cord from the shooting position. The distance to the targets varies and is unknown\, adding an element of range-finding ability (similar to hunting in the field). All types of air rifles may be used\, up to .22 cal\,  (but NO BB’s) and we do have some loaners available. Junior shooters are welcome and as always\, they shoot FREE when accompanied by an adult club member. \nAirguns have grown up…….Give it a try ! We shoot in all weather\, except for the atypical Lightning storm.
URL:https://diablorodandgun.com/event/airgun-field-target-2/2027-06-20/
LOCATION:USI Multi Purpose Range\, 4700 Evora Road\, Concord\, CA\, 94520
CATEGORIES:Airgun
ATTACH;FMTTYPE=image/png:https://diablorodandgun.com/wp-content/uploads/2025/12/fieldtargetguns580.png
ORGANIZER;CN="Sam Russo":MAILTO:airgun_fieldtarget@diablorodandgun.com
GEO:38.0181978;-121.9914105
X-APPLE-STRUCTURED-LOCATION;VALUE=URI;X-ADDRESS=USI Multi Purpose Range 4700 Evora Road Concord CA 94520;X-APPLE-RADIUS=500;X-TITLE=4700 Evora Road:geo:-121.9914105,38.0181978
END:VEVENT
BEGIN:VEVENT
DTSTART;TZID=America/Los_Angeles:20270718T080000
DTEND;TZID=America/Los_Angeles:20270718T120000
DTSTAMP:20260424T181725
CREATED:20251220T233637Z
LAST-MODIFIED:20251220T233637Z
UID:10005579-1815897600-1815912000@diablorodandgun.com
SUMMARY:Airgun - Field Target
DESCRIPTION:Airgun Field Target is an outdoor venue\, utilizing precision high-power air rifles (sometimes air pistols). The reactionary\, steel animal targets are designed to fall only when the pellet hits the “Kill Zone”\, requiring target-rifle accuracy. Targets are then re-set with a cord from the shooting position. The distance to the targets varies and is unknown\, adding an element of range-finding ability (similar to hunting in the field). All types of air rifles may be used\, up to .22 cal\,  (but NO BB’s) and we do have some loaners available. Junior shooters are welcome and as always\, they shoot FREE when accompanied by an adult club member. \nAirguns have grown up…….Give it a try ! We shoot in all weather\, except for the atypical Lightning storm.
URL:https://diablorodandgun.com/event/airgun-field-target-2/2027-07-18/
LOCATION:USI Multi Purpose Range\, 4700 Evora Road\, Concord\, CA\, 94520
CATEGORIES:Airgun
ATTACH;FMTTYPE=image/png:https://diablorodandgun.com/wp-content/uploads/2025/12/fieldtargetguns580.png
ORGANIZER;CN="Sam Russo":MAILTO:airgun_fieldtarget@diablorodandgun.com
GEO:38.0181978;-121.9914105
X-APPLE-STRUCTURED-LOCATION;VALUE=URI;X-ADDRESS=USI Multi Purpose Range 4700 Evora Road Concord CA 94520;X-APPLE-RADIUS=500;X-TITLE=4700 Evora Road:geo:-121.9914105,38.0181978
END:VEVENT
END:VCALENDAR