BEGIN:VCALENDAR
VERSION:2.0
PRODID:-//Diablo Rod and Gun Club - ECPv6.15.20//NONSGML v1.0//EN
CALSCALE:GREGORIAN
METHOD:PUBLISH
X-ORIGINAL-URL:https://diablorodandgun.com
X-WR-CALDESC:Events for Diablo Rod and Gun Club
REFRESH-INTERVAL;VALUE=DURATION:PT1H
X-Robots-Tag:noindex
X-PUBLISHED-TTL:PT1H
BEGIN:VTIMEZONE
TZID:America/Los_Angeles
BEGIN:DAYLIGHT
TZOFFSETFROM:-0800
TZOFFSETTO:-0700
TZNAME:PDT
DTSTART:20250309T100000
END:DAYLIGHT
BEGIN:STANDARD
TZOFFSETFROM:-0700
TZOFFSETTO:-0800
TZNAME:PST
DTSTART:20251102T090000
END:STANDARD
BEGIN:DAYLIGHT
TZOFFSETFROM:-0800
TZOFFSETTO:-0700
TZNAME:PDT
DTSTART:20260308T100000
END:DAYLIGHT
BEGIN:STANDARD
TZOFFSETFROM:-0700
TZOFFSETTO:-0800
TZNAME:PST
DTSTART:20261101T090000
END:STANDARD
BEGIN:DAYLIGHT
TZOFFSETFROM:-0800
TZOFFSETTO:-0700
TZNAME:PDT
DTSTART:20270314T100000
END:DAYLIGHT
BEGIN:STANDARD
TZOFFSETFROM:-0700
TZOFFSETTO:-0800
TZNAME:PST
DTSTART:20271107T090000
END:STANDARD
END:VTIMEZONE
BEGIN:VEVENT
DTSTART;TZID=America/Los_Angeles:20260317T090000
DTEND;TZID=America/Los_Angeles:20260317T160000
DTSTAMP:20260425T070117
CREATED:20251209T222107Z
LAST-MODIFIED:20251209T222107Z
UID:10005449-1773738000-1773763200@diablorodandgun.com
SUMMARY:MPR - RSO Only - Airgun/.22 Only
DESCRIPTION:
URL:https://diablorodandgun.com/event/mpr-rso-only-airgun-22-only/2026-03-17/
LOCATION:USI Multi Purpose Range\, 4700 Evora Road\, Concord\, CA\, 94520
GEO:38.0181978;-121.9914105
X-APPLE-STRUCTURED-LOCATION;VALUE=URI;X-ADDRESS=USI Multi Purpose Range 4700 Evora Road Concord CA 94520;X-APPLE-RADIUS=500;X-TITLE=4700 Evora Road:geo:-121.9914105,38.0181978
END:VEVENT
BEGIN:VEVENT
DTSTART;TZID=America/Los_Angeles:20260317T160000
DTEND;TZID=America/Los_Angeles:20260317T173000
DTSTAMP:20260425T070117
CREATED:20241221T010910Z
LAST-MODIFIED:20241221T010910Z
UID:10003030-1773763200-1773768600@diablorodandgun.com
SUMMARY:Pre-Social Diablo Members Skeet
DESCRIPTION:Come and shoot skeet before the Club Social! \nRight before the social\, you can purchase 1 or 2 skeet tokens at the club rate for the event. Not a free shoot\, but a great group of people to be with! \nLocation – Skeet Field 5
URL:https://diablorodandgun.com/event/diablo-members-skeet-2-2/2026-03-17/
LOCATION:USI Skeet Fields
ORGANIZER;CN="Martin O'Connor":MAILTO:Membership@Diablorodandgun.com
END:VEVENT
BEGIN:VEVENT
DTSTART;TZID=America/Los_Angeles:20260317T174500
DTEND;TZID=America/Los_Angeles:20260317T200000
DTSTAMP:20260425T070117
CREATED:20230414T233907Z
LAST-MODIFIED:20230524T193950Z
UID:10001693-1773769500-1773777600@diablorodandgun.com
SUMMARY:Monthly Social
DESCRIPTION:Gather and help set up at 5:15 eat at 5:45 PM.\nThe Club will provide the food and drinks\, including sodas\, beer\, wine\, and spirits.\nDiablo members\, family\, and guests are invited to come by\, and visit with other club members.\nSocials are always on the third Tuesday of the month.
URL:https://diablorodandgun.com/event/monthly-social-2/2026-03-17/
LOCATION:USI Clubhouse\, 4700 Evora Rd.\, Concord\, CA\, 94521
ATTACH;FMTTYPE=image/jpeg:https://diablorodandgun.com/wp-content/uploads/2012/07/FoodPlateSlider_withText.jpg
ORGANIZER;CN="Martin O'Connor":MAILTO:Membership@Diablorodandgun.com
GEO:38.0181978;-121.9914105
X-APPLE-STRUCTURED-LOCATION;VALUE=URI;X-ADDRESS=USI Clubhouse 4700 Evora Rd. Concord CA 94521;X-APPLE-RADIUS=500;X-TITLE=4700 Evora Rd.:geo:-121.9914105,38.0181978
END:VEVENT
BEGIN:VEVENT
DTSTART;TZID=America/Los_Angeles:20260318T090000
DTEND;TZID=America/Los_Angeles:20260318T120000
DTSTAMP:20260425T070117
CREATED:20240517T050748Z
LAST-MODIFIED:20251220T024339Z
UID:10003602-1773824400-1773835200@diablorodandgun.com
SUMMARY:Airgun Wednesdays
DESCRIPTION:Fun Airgun Only shooting session at the MPR- look for the big red flag on the pole that says “MPR”- that’s us! \nOpen to public\, airguns .30 cal and below. Benches available\, targets and stands\, 200 yard range. Good group of people. \nAll types of airguns- springers\, PCP’s\, Pistols.  Eye protection required\, ear protection optional \nNo bb\, darts or airsoft please. \n$15 Guest\n$10 for Diablo members (did you know Diablo membership is only $25 a year?)\n$5 for those special few that have purchased a USI VIP card.\nYouths accompanied by a Club member adult shoot free.\n \n\nUSI waiver must signed prior to shoot\, you can do so prior to attending: \n\nWaiver \n\nContact: \nSam Russo \nthePelleteer@gmail.com
URL:https://diablorodandgun.com/event/airgun-wednesdays-every-weds-morn-9-1200-pm-2-2/2026-03-18/
LOCATION:USI Multi Purpose Range\, 4700 Evora Road\, Concord\, CA\, 94520
CATEGORIES:Airgun
ATTACH;FMTTYPE=image/jpeg:https://diablorodandgun.com/wp-content/uploads/2021/05/4MRvVFxy_400x400-e1623188943149.jpg
ORGANIZER;CN="Sam Russo":MAILTO:airgun_fieldtarget@diablorodandgun.com
GEO:38.0181978;-121.9914105
X-APPLE-STRUCTURED-LOCATION;VALUE=URI;X-ADDRESS=USI Multi Purpose Range 4700 Evora Road Concord CA 94520;X-APPLE-RADIUS=500;X-TITLE=4700 Evora Road:geo:-121.9914105,38.0181978
END:VEVENT
BEGIN:VEVENT
DTSTART;TZID=America/Los_Angeles:20260318T120000
DTEND;TZID=America/Los_Angeles:20260318T160000
DTSTAMP:20260425T070117
CREATED:20250417T021546Z
LAST-MODIFIED:20251107T014957Z
UID:10003879-1773835200-1773849600@diablorodandgun.com
SUMMARY:.22 Silhouette Practice and Airguns welcome!
DESCRIPTION:22 Rimfire and Air guns only- Silhouette target shooting at the MPR. \nOffhand/Standing shooting at Metal Animal silhouettes with rifles or pistols\, open or scoped sights allowed. \nBenches are available during this practice period every Wednesday \nMembers of all 5 clubs are welcome.\n Fees are collected at the Multi Purpose Range\, not at the USI Clubhouse .\nThe MPR is the building on the right hand side as you pass the Public Range\, but before the Impalement Arts Range.\nLook for the red MPR flag on the flag post- that’s us!\n\nUSI waiver and a Blue Card issued from the USI clubhouse required prior to the match- there is no charge to these one time processes.\n\nA silhouette is a steel profile of an animal (chicken\, pig\, turkey\, or ram) standing on a pedestal. The object of the game is to knock as many silhouettes as possible off the stand\, shooting one round at each silhouette. It is a very simple competition\, with very simple scoring: Knocking an animal off its stand counts as a hit.\n\nAlthough silhouette is an easy game to learn\, it is not an easy game to master. The animals are rather small and the distances can reach out a bit; you must shoot offhand (standing); a moderate breeze can move a bullet or a pellet the width of an animal; your concentration becomes more difficult to hold as you knock down five in a row or with a close miss.  Silhouette is an endless challenge that makes you a better shooter!\nThis is a reoccurring event every Week- we intend to host this practice barring weather or extraordinary barriers preventing the event from occurring in a safe environment. Heavy fog\, severe weather or other acts of nature could force a postponement.\n\n+ GOOGLE CALENDAR+ ICAL EXPORT\n\n\nRelated Events
URL:https://diablorodandgun.com/event/22-silhouette-practice-and-airguns-welcome-3/2026-03-18/
LOCATION:USI Multi Purpose Range\, 4700 Evora Road\, Concord\, CA\, 94520
CATEGORIES:Airgun,Silhouette Shooting
ATTACH;FMTTYPE=image/jpeg:https://diablorodandgun.com/wp-content/uploads/2013/10/Silhouette_Target_1.jpg
ORGANIZER;CN="Dennis Winslow":MAILTO:dmwinslow@aol.com
GEO:38.0181978;-121.9914105
X-APPLE-STRUCTURED-LOCATION;VALUE=URI;X-ADDRESS=USI Multi Purpose Range 4700 Evora Road Concord CA 94520;X-APPLE-RADIUS=500;X-TITLE=4700 Evora Road:geo:-121.9914105,38.0181978
END:VEVENT
BEGIN:VEVENT
DTSTART;TZID=America/Los_Angeles:20260318T180000
DTEND;TZID=America/Los_Angeles:20260318T200000
DTSTAMP:20260425T070117
CREATED:20240105T191301Z
LAST-MODIFIED:20251218T202749Z
UID:10004990-1773856800-1773864000@diablorodandgun.com
SUMMARY:Reloading Meeting
DESCRIPTION:We’re meeting to do and discuss metallic cartridge and shotshell reloading.  It’s an an informal social gathering\, but we generally have a specific discussion topic or activity each month.  Those who are not interested are free to do other things. \n\nBring your press (or arrange to use ours) if you want to reload\nBring your ammo and range fee if you want to shoot.  Range fee is $10 ($5 if you are a USI Access Card/VIP Card holder).  Bring exact change.\nJust bring yourself if you want to watch and ask questions\n\nLocation:  Hunter Education Building (on the Action Pistol Range) \nQuestions?  Contact the activity leaders:  reloading@diablorodandgun.com
URL:https://diablorodandgun.com/event/reloading-2/2026-03-18/
LOCATION:USI Hunter Education Classroom\, 4700 Evora Rd\, Cocnord\, CA\, 94521\, United States
CATEGORIES:Reloading Club
ATTACH;FMTTYPE=image/jpeg:https://diablorodandgun.com/wp-content/uploads/2018/05/best-reloading.jpg
GEO:38.0181978;-121.9914105
X-APPLE-STRUCTURED-LOCATION;VALUE=URI;X-ADDRESS=USI Hunter Education Classroom 4700 Evora Rd Cocnord CA 94521 United States;X-APPLE-RADIUS=500;X-TITLE=4700 Evora Rd:geo:-121.9914105,38.0181978
END:VEVENT
BEGIN:VEVENT
DTSTART;TZID=America/Los_Angeles:20260319T090000
DTEND;TZID=America/Los_Angeles:20260319T120000
DTSTAMP:20260425T070117
CREATED:20240517T071958Z
LAST-MODIFIED:20251220T023020Z
UID:10003515-1773910800-1773921600@diablorodandgun.com
SUMMARY:Airgun & 22LR Thursdays
DESCRIPTION:Fun Airgun AND .22 LR from NOON ONWARD…  session at the MPR- look for the big red flag on the pole that says “MPR”- that’s us! \nOpen to public\, airguns .30 cal and below AND .22 LR. Benches available\, targets and stands\, 200 yard range. Good group of people. \nAll types of Airguns- springers\, PCP’s\, Pistols.\nAll Types of .22 LR – Rifle and Pistol. \nEye protection required\, ear required \n$15 Guest\n$10 for Diablo members (did you know Diablo membership is only $25 a year?)\n$5 for those special few that have purchased a USI VIP card.\nYouths accompanied by a Club member adult shoot free.\n \n\nUSI waiver must signed prior to shoot\, you can do so prior to attending: \n\nWaiver \n\nContact: \nSam Russo \nthePelleteer@gmail.com \n 
URL:https://diablorodandgun.com/event/airgun-22lr-thursdays/2026-03-19/
LOCATION:USI Multi Purpose Range\, 4700 Evora Road\, Concord\, CA\, 94520
CATEGORIES:.22lr Shooting,Airgun
ATTACH;FMTTYPE=image/jpeg:https://diablorodandgun.com/wp-content/uploads/2023/04/222.jpg
ORGANIZER;CN="Sam Russo":MAILTO:airgun_fieldtarget@diablorodandgun.com
GEO:38.0181978;-121.9914105
X-APPLE-STRUCTURED-LOCATION;VALUE=URI;X-ADDRESS=USI Multi Purpose Range 4700 Evora Road Concord CA 94520;X-APPLE-RADIUS=500;X-TITLE=4700 Evora Road:geo:-121.9914105,38.0181978
END:VEVENT
BEGIN:VEVENT
DTSTART;TZID=America/Los_Angeles:20260320T090000
DTEND;TZID=America/Los_Angeles:20260320T170000
DTSTAMP:20260425T070117
CREATED:20240101T174112Z
LAST-MODIFIED:20251107T012927Z
UID:10004418-1773997200-1774026000@diablorodandgun.com
SUMMARY:Action Pistol - RO Practice
DESCRIPTION:This practice is for Diablo Range Officers only.  Do not show up if you are not a Diablo Range Officer.
URL:https://diablorodandgun.com/event/dap-ro-practice-2-2/2026-03-20/
LOCATION:Action Pistol Range\, 4700 Evora Road\, Concord\, CA\, 94520
CATEGORIES:Diablo Action Pistol
ATTACH;FMTTYPE=image/jpeg:https://diablorodandgun.com/wp-content/uploads/2020/05/range_officer-e1638567606101.jpeg
ORGANIZER;CN="Blade Benson":MAILTO:matchsupport@diabloactionpistol.com
GEO:38.0181978;-121.9914105
X-APPLE-STRUCTURED-LOCATION;VALUE=URI;X-ADDRESS=Action Pistol Range 4700 Evora Road Concord CA 94520;X-APPLE-RADIUS=500;X-TITLE=4700 Evora Road:geo:-121.9914105,38.0181978
END:VEVENT
BEGIN:VEVENT
DTSTART;TZID=America/Los_Angeles:20260321T080000
DTEND;TZID=America/Los_Angeles:20260321T150000
DTSTAMP:20260425T070117
CREATED:20241214T180515Z
LAST-MODIFIED:20251107T053732Z
UID:10005063-1774080000-1774105200@diablorodandgun.com
SUMMARY:Ladies Class
DESCRIPTION:Sign up at Practiscore.com
URL:https://diablorodandgun.com/event/ladies-class-2-2/2026-03-21/
LOCATION:Action Pistol Range\, 4700 Evora Road\, Concord\, CA\, 94520
CATEGORIES:Ladies Shooting Sports
GEO:38.0181978;-121.9914105
X-APPLE-STRUCTURED-LOCATION;VALUE=URI;X-ADDRESS=Action Pistol Range 4700 Evora Road Concord CA 94520;X-APPLE-RADIUS=500;X-TITLE=4700 Evora Road:geo:-121.9914105,38.0181978
END:VEVENT
BEGIN:VEVENT
DTSTART;TZID=America/Los_Angeles:20260321T090000
DTEND;TZID=America/Los_Angeles:20260321T120000
DTSTAMP:20260425T070117
CREATED:20240101T175148Z
LAST-MODIFIED:20251107T012556Z
UID:10004272-1774083600-1774094400@diablorodandgun.com
SUMMARY:Action Pistol - Sat Practice
DESCRIPTION:Range fee: \n\n$10  ($5 if you are a USI VIP Card holder)\nBring exact change.\n\nPlease note: \n\nThere will be no Saturday practice on the 5th Saturday of a month\, when those occur.\nThe number of practice bays available may be impacted by competition stage setup needs.
URL:https://diablorodandgun.com/event/dap-sat-practice-2-2-2/2026-03-21/
LOCATION:Action Pistol Range\, 4700 Evora Road\, Concord\, CA\, 94520
CATEGORIES:Diablo Action Pistol
ATTACH;FMTTYPE=image/png:https://diablorodandgun.com/wp-content/uploads/2019/01/White-bg_transparent-daplogo-e1547014989540.png
ORGANIZER;CN="Blade Benson":MAILTO:matchsupport@diabloactionpistol.com
GEO:38.0181978;-121.9914105
X-APPLE-STRUCTURED-LOCATION;VALUE=URI;X-ADDRESS=Action Pistol Range 4700 Evora Road Concord CA 94520;X-APPLE-RADIUS=500;X-TITLE=4700 Evora Road:geo:-121.9914105,38.0181978
END:VEVENT
BEGIN:VEVENT
DTSTART;TZID=America/Los_Angeles:20260321T090000
DTEND;TZID=America/Los_Angeles:20260321T120000
DTSTAMP:20260425T070117
CREATED:20250820T175526Z
LAST-MODIFIED:20250820T175931Z
UID:10002938-1774083600-1774094400@diablorodandgun.com
SUMMARY:NRL22 Match
DESCRIPTION:DRGC hosts an NRL22 match every 3rd Saturday of the month.\n\nNRL Matches runs from 8am-1pm for NRL22-style shooting — If you are new\, please speak to the Practice Leader/RSO about how to shoot safely in advance.\n\nMatch Fees:\n$10 for members with a USI VIP card\n$15 for members without a USI VIP card\n$30 for public (non-member)\n\n\nTo register for the match\, go to: https://practiscore.com/clubs/diablo_precision_rimfire_rifle \n  \n\nTo find out more information about NRL22 — Hit us up at nrl-matchsupport@diablorodandgun.com and someone will get back to you ASAP!!
URL:https://diablorodandgun.com/event/nrl22-match-3-2-2/2026-03-21/
LOCATION:USI Multi Purpose Range\, 4700 Evora Road\, Concord\, CA\, 94520
CATEGORIES:.22lr Shooting,NRL Events
ATTACH;FMTTYPE=image/jpeg:https://diablorodandgun.com/wp-content/uploads/2025/08/download-nrl.jpeg
ORGANIZER;CN="Richard Carlson":MAILTO:nrl-matchsupport@diablorodandgun.com
GEO:38.0181978;-121.9914105
X-APPLE-STRUCTURED-LOCATION;VALUE=URI;X-ADDRESS=USI Multi Purpose Range 4700 Evora Road Concord CA 94520;X-APPLE-RADIUS=500;X-TITLE=4700 Evora Road:geo:-121.9914105,38.0181978
END:VEVENT
BEGIN:VEVENT
DTSTART;TZID=America/Los_Angeles:20260321T130000
DTEND;TZID=America/Los_Angeles:20260321T160000
DTSTAMP:20260425T070118
CREATED:20250217T204137Z
LAST-MODIFIED:20250217T204137Z
UID:10003692-1774098000-1774108800@diablorodandgun.com
SUMMARY:Centerfire Rifles (Previously Sighted In) at 200yd Only on the MPR
DESCRIPTION:Diablo Rod and Gun club is hosting a monthly club-level 200 yard centerfire rifle match on the Multi-Purpose Range (MPR) \nAll Clubs Welcome!
URL:https://diablorodandgun.com/event/centerfire-rifles-previously-sighted-in-at-200yd-only-on-the-mpr/2026-03-21/
LOCATION:USI Multi Purpose Range\, 4700 Evora Road\, Concord\, CA\, 94520
GEO:38.0181978;-121.9914105
X-APPLE-STRUCTURED-LOCATION;VALUE=URI;X-ADDRESS=USI Multi Purpose Range 4700 Evora Road Concord CA 94520;X-APPLE-RADIUS=500;X-TITLE=4700 Evora Road:geo:-121.9914105,38.0181978
END:VEVENT
BEGIN:VEVENT
DTSTART;TZID=America/Los_Angeles:20260321T170000
DTEND;TZID=America/Los_Angeles:20260321T200000
DTSTAMP:20260425T070118
CREATED:20251107T055342Z
LAST-MODIFIED:20251117T025745Z
UID:10005141-1774112400-1774123200@diablorodandgun.com
SUMMARY:Diablo Saturday Night Shooting
DESCRIPTION:Diablo Saturday Night Shooting\n\n\n\n\n\n\n\n\nDiablo will be hosting Saturday night shooting at the public pistol range. \nIMPORTANT: If you need ammunition PLEASE be sure to grab it BEFORE USI closes. Diablo will NOT be selling ammo. \nIf you are in the mood to do some plinking\, head over to USI. Make sure you have your USI “Blue” card if not please make sure you have done the online waiver. \nTHIS WILL BE A WEEKLY SATURDAY NIGHT EVENT. BOTH RIFLE AND PISTOL WILL GENERALLY BE OPEN. \nHope to see everyone there!
URL:https://diablorodandgun.com/event/diablo-member-night-shoot-2-2-2/2026-03-21/
LOCATION:USI Public Pistol / Rifle Range\, 4700 Evora Road\, Concord\, 94520\, United States
CATEGORIES:Pistol Events
ATTACH;FMTTYPE=image/jpeg:https://diablorodandgun.com/wp-content/uploads/2025/01/unnamed-2.jpg
GEO:38.0181685;-121.9914784
X-APPLE-STRUCTURED-LOCATION;VALUE=URI;X-ADDRESS=USI Public Pistol / Rifle Range 4700 Evora Road Concord 94520 United States;X-APPLE-RADIUS=500;X-TITLE=4700 Evora Road:geo:-121.9914784,38.0181685
END:VEVENT
END:VCALENDAR