BEGIN:VCALENDAR
VERSION:2.0
PRODID:-//Diablo Rod and Gun Club - ECPv6.15.20//NONSGML v1.0//EN
CALSCALE:GREGORIAN
METHOD:PUBLISH
X-ORIGINAL-URL:https://diablorodandgun.com
X-WR-CALDESC:Events for Diablo Rod and Gun Club
REFRESH-INTERVAL;VALUE=DURATION:PT1H
X-Robots-Tag:noindex
X-PUBLISHED-TTL:PT1H
BEGIN:VTIMEZONE
TZID:America/Los_Angeles
BEGIN:DAYLIGHT
TZOFFSETFROM:-0800
TZOFFSETTO:-0700
TZNAME:PDT
DTSTART:20250309T100000
END:DAYLIGHT
BEGIN:STANDARD
TZOFFSETFROM:-0700
TZOFFSETTO:-0800
TZNAME:PST
DTSTART:20251102T090000
END:STANDARD
BEGIN:DAYLIGHT
TZOFFSETFROM:-0800
TZOFFSETTO:-0700
TZNAME:PDT
DTSTART:20260308T100000
END:DAYLIGHT
BEGIN:STANDARD
TZOFFSETFROM:-0700
TZOFFSETTO:-0800
TZNAME:PST
DTSTART:20261101T090000
END:STANDARD
BEGIN:DAYLIGHT
TZOFFSETFROM:-0800
TZOFFSETTO:-0700
TZNAME:PDT
DTSTART:20270314T100000
END:DAYLIGHT
BEGIN:STANDARD
TZOFFSETFROM:-0700
TZOFFSETTO:-0800
TZNAME:PST
DTSTART:20271107T090000
END:STANDARD
END:VTIMEZONE
BEGIN:VEVENT
DTSTART;TZID=America/Los_Angeles:20260331T090000
DTEND;TZID=America/Los_Angeles:20260331T160000
DTSTAMP:20260423T010520
CREATED:20251209T222107Z
LAST-MODIFIED:20251209T222107Z
UID:10005451-1774947600-1774972800@diablorodandgun.com
SUMMARY:MPR - RSO Only - Airgun/.22 Only
DESCRIPTION:
URL:https://diablorodandgun.com/event/mpr-rso-only-airgun-22-only/2026-03-31/
LOCATION:USI Multi Purpose Range\, 4700 Evora Road\, Concord\, CA\, 94520
GEO:38.0181978;-121.9914105
X-APPLE-STRUCTURED-LOCATION;VALUE=URI;X-ADDRESS=USI Multi Purpose Range 4700 Evora Road Concord CA 94520;X-APPLE-RADIUS=500;X-TITLE=4700 Evora Road:geo:-121.9914105,38.0181978
END:VEVENT
BEGIN:VEVENT
DTSTART;TZID=America/Los_Angeles:20260401T090000
DTEND;TZID=America/Los_Angeles:20260401T120000
DTSTAMP:20260423T010520
CREATED:20240517T050748Z
LAST-MODIFIED:20251220T024339Z
UID:10003604-1775034000-1775044800@diablorodandgun.com
SUMMARY:Airgun Wednesdays
DESCRIPTION:Fun Airgun Only shooting session at the MPR- look for the big red flag on the pole that says “MPR”- that’s us! \nOpen to public\, airguns .30 cal and below. Benches available\, targets and stands\, 200 yard range. Good group of people. \nAll types of airguns- springers\, PCP’s\, Pistols.  Eye protection required\, ear protection optional \nNo bb\, darts or airsoft please. \n$15 Guest\n$10 for Diablo members (did you know Diablo membership is only $25 a year?)\n$5 for those special few that have purchased a USI VIP card.\nYouths accompanied by a Club member adult shoot free.\n \n\nUSI waiver must signed prior to shoot\, you can do so prior to attending: \n\nWaiver \n\nContact: \nSam Russo \nthePelleteer@gmail.com
URL:https://diablorodandgun.com/event/airgun-wednesdays-every-weds-morn-9-1200-pm-2-2/2026-04-01/
LOCATION:USI Multi Purpose Range\, 4700 Evora Road\, Concord\, CA\, 94520
CATEGORIES:Airgun
ATTACH;FMTTYPE=image/jpeg:https://diablorodandgun.com/wp-content/uploads/2021/05/4MRvVFxy_400x400-e1623188943149.jpg
ORGANIZER;CN="Sam Russo":MAILTO:airgun_fieldtarget@diablorodandgun.com
GEO:38.0181978;-121.9914105
X-APPLE-STRUCTURED-LOCATION;VALUE=URI;X-ADDRESS=USI Multi Purpose Range 4700 Evora Road Concord CA 94520;X-APPLE-RADIUS=500;X-TITLE=4700 Evora Road:geo:-121.9914105,38.0181978
END:VEVENT
BEGIN:VEVENT
DTSTART;TZID=America/Los_Angeles:20260401T120000
DTEND;TZID=America/Los_Angeles:20260401T160000
DTSTAMP:20260423T010520
CREATED:20250417T021546Z
LAST-MODIFIED:20251107T014957Z
UID:10003881-1775044800-1775059200@diablorodandgun.com
SUMMARY:.22 Silhouette Practice and Airguns welcome!
DESCRIPTION:22 Rimfire and Air guns only- Silhouette target shooting at the MPR. \nOffhand/Standing shooting at Metal Animal silhouettes with rifles or pistols\, open or scoped sights allowed. \nBenches are available during this practice period every Wednesday \nMembers of all 5 clubs are welcome.\n Fees are collected at the Multi Purpose Range\, not at the USI Clubhouse .\nThe MPR is the building on the right hand side as you pass the Public Range\, but before the Impalement Arts Range.\nLook for the red MPR flag on the flag post- that’s us!\n\nUSI waiver and a Blue Card issued from the USI clubhouse required prior to the match- there is no charge to these one time processes.\n\nA silhouette is a steel profile of an animal (chicken\, pig\, turkey\, or ram) standing on a pedestal. The object of the game is to knock as many silhouettes as possible off the stand\, shooting one round at each silhouette. It is a very simple competition\, with very simple scoring: Knocking an animal off its stand counts as a hit.\n\nAlthough silhouette is an easy game to learn\, it is not an easy game to master. The animals are rather small and the distances can reach out a bit; you must shoot offhand (standing); a moderate breeze can move a bullet or a pellet the width of an animal; your concentration becomes more difficult to hold as you knock down five in a row or with a close miss.  Silhouette is an endless challenge that makes you a better shooter!\nThis is a reoccurring event every Week- we intend to host this practice barring weather or extraordinary barriers preventing the event from occurring in a safe environment. Heavy fog\, severe weather or other acts of nature could force a postponement.\n\n+ GOOGLE CALENDAR+ ICAL EXPORT\n\n\nRelated Events
URL:https://diablorodandgun.com/event/22-silhouette-practice-and-airguns-welcome-3/2026-04-01/
LOCATION:USI Multi Purpose Range\, 4700 Evora Road\, Concord\, CA\, 94520
CATEGORIES:Airgun,Silhouette Shooting
ATTACH;FMTTYPE=image/jpeg:https://diablorodandgun.com/wp-content/uploads/2013/10/Silhouette_Target_1.jpg
ORGANIZER;CN="Dennis Winslow":MAILTO:dmwinslow@aol.com
GEO:38.0181978;-121.9914105
X-APPLE-STRUCTURED-LOCATION;VALUE=URI;X-ADDRESS=USI Multi Purpose Range 4700 Evora Road Concord CA 94520;X-APPLE-RADIUS=500;X-TITLE=4700 Evora Road:geo:-121.9914105,38.0181978
END:VEVENT
BEGIN:VEVENT
DTSTART;TZID=America/Los_Angeles:20260402T090000
DTEND;TZID=America/Los_Angeles:20260402T120000
DTSTAMP:20260423T010520
CREATED:20240517T071958Z
LAST-MODIFIED:20251220T023020Z
UID:10003517-1775120400-1775131200@diablorodandgun.com
SUMMARY:Airgun & 22LR Thursdays
DESCRIPTION:Fun Airgun AND .22 LR from NOON ONWARD…  session at the MPR- look for the big red flag on the pole that says “MPR”- that’s us! \nOpen to public\, airguns .30 cal and below AND .22 LR. Benches available\, targets and stands\, 200 yard range. Good group of people. \nAll types of Airguns- springers\, PCP’s\, Pistols.\nAll Types of .22 LR – Rifle and Pistol. \nEye protection required\, ear required \n$15 Guest\n$10 for Diablo members (did you know Diablo membership is only $25 a year?)\n$5 for those special few that have purchased a USI VIP card.\nYouths accompanied by a Club member adult shoot free.\n \n\nUSI waiver must signed prior to shoot\, you can do so prior to attending: \n\nWaiver \n\nContact: \nSam Russo \nthePelleteer@gmail.com \n 
URL:https://diablorodandgun.com/event/airgun-22lr-thursdays/2026-04-02/
LOCATION:USI Multi Purpose Range\, 4700 Evora Road\, Concord\, CA\, 94520
CATEGORIES:.22lr Shooting,Airgun
ATTACH;FMTTYPE=image/jpeg:https://diablorodandgun.com/wp-content/uploads/2023/04/222.jpg
ORGANIZER;CN="Sam Russo":MAILTO:airgun_fieldtarget@diablorodandgun.com
GEO:38.0181978;-121.9914105
X-APPLE-STRUCTURED-LOCATION;VALUE=URI;X-ADDRESS=USI Multi Purpose Range 4700 Evora Road Concord CA 94520;X-APPLE-RADIUS=500;X-TITLE=4700 Evora Road:geo:-121.9914105,38.0181978
END:VEVENT
BEGIN:VEVENT
DTSTART;TZID=America/Los_Angeles:20260402T130000
DTEND;TZID=America/Los_Angeles:20260402T180000
DTSTAMP:20260423T010520
CREATED:20240618T000622Z
LAST-MODIFIED:20240822T191703Z
UID:10002836-1775134800-1775152800@diablorodandgun.com
SUMMARY:.22 LR and Airgun
DESCRIPTION:
URL:https://diablorodandgun.com/event/22-lr-and-airgun-2/2026-04-02/
LOCATION:USI Multi Purpose Range\, 4700 Evora Road\, Concord\, CA\, 94520
CATEGORIES:.22lr Shooting,Airgun
ATTACH;FMTTYPE=image/jpeg:https://diablorodandgun.com/wp-content/uploads/2023/04/222.jpg
GEO:38.0181978;-121.9914105
X-APPLE-STRUCTURED-LOCATION;VALUE=URI;X-ADDRESS=USI Multi Purpose Range 4700 Evora Road Concord CA 94520;X-APPLE-RADIUS=500;X-TITLE=4700 Evora Road:geo:-121.9914105,38.0181978
END:VEVENT
BEGIN:VEVENT
DTSTART;TZID=America/Los_Angeles:20260402T170000
DTEND;TZID=America/Los_Angeles:20260402T193000
DTSTAMP:20260423T010520
CREATED:20240517T072813Z
LAST-MODIFIED:20240617T235640Z
UID:10002784-1775149200-1775158200@diablorodandgun.com
SUMMARY:Pre-Meeting Members Shoot - MPR
DESCRIPTION:Members Shoot for .22LR Pre-Meeting Shooting!! \nCome on out and have some fun!
URL:https://diablorodandgun.com/event/pre-meeting-members-shoot-mpr/2026-04-02/
LOCATION:USI Multi Purpose Range\, 4700 Evora Road\, Concord\, CA\, 94520
CATEGORIES:.22lr Shooting
GEO:38.0181978;-121.9914105
X-APPLE-STRUCTURED-LOCATION;VALUE=URI;X-ADDRESS=USI Multi Purpose Range 4700 Evora Road Concord CA 94520;X-APPLE-RADIUS=500;X-TITLE=4700 Evora Road:geo:-121.9914105,38.0181978
END:VEVENT
BEGIN:VEVENT
DTSTART;TZID=America/Los_Angeles:20260402T193000
DTEND;TZID=America/Los_Angeles:20260402T210000
DTSTAMP:20260423T010520
CREATED:20240301T192909Z
LAST-MODIFIED:20240504T063301Z
UID:10002102-1775158200-1775163600@diablorodandgun.com
SUMMARY:Diablo Membership Meeting
DESCRIPTION:This is the Diablo Rod & Gun Monthly Membership Meeting. This is traditionally a business meeting where club business is cared for. Activity chairs are normally present to give updates on their activities. New business is announced and the club President give his monthly update at this meeting. \nThis meeting is the place to find out all of the relevant information on any activities the club sponsors\, renew or sign up for membership and other important club functions. \nNew members are highly encouraged to attend a few meetings to learn the ins and outs of the club and its activities. The club is always looking for people interested in giving back to the club by helping or heading an activity. If you are interested or know of an activity you would like to see\, please attend a meeting and get with the activity chair in question of become one yourself!
URL:https://diablorodandgun.com/event/monthly-membership-meeting-2/2026-04-02/
LOCATION:USI Clubhouse\, 4700 Evora Rd.\, Concord\, CA\, 94521
CATEGORIES:Monthly Member Meeting
ATTACH;FMTTYPE=image/jpeg:https://diablorodandgun.com/wp-content/uploads/2014/12/download.jpg
GEO:38.0181978;-121.9914105
X-APPLE-STRUCTURED-LOCATION;VALUE=URI;X-ADDRESS=USI Clubhouse 4700 Evora Rd. Concord CA 94521;X-APPLE-RADIUS=500;X-TITLE=4700 Evora Rd.:geo:-121.9914105,38.0181978
END:VEVENT
BEGIN:VEVENT
DTSTART;TZID=America/Los_Angeles:20260403T090000
DTEND;TZID=America/Los_Angeles:20260403T170000
DTSTAMP:20260423T010520
CREATED:20240101T174112Z
LAST-MODIFIED:20251107T012927Z
UID:10004420-1775206800-1775235600@diablorodandgun.com
SUMMARY:Action Pistol - RO Practice
DESCRIPTION:This practice is for Diablo Range Officers only.  Do not show up if you are not a Diablo Range Officer.
URL:https://diablorodandgun.com/event/dap-ro-practice-2-2/2026-04-03/
LOCATION:Action Pistol Range\, 4700 Evora Road\, Concord\, CA\, 94520
CATEGORIES:Diablo Action Pistol
ATTACH;FMTTYPE=image/jpeg:https://diablorodandgun.com/wp-content/uploads/2020/05/range_officer-e1638567606101.jpeg
ORGANIZER;CN="Blade Benson":MAILTO:matchsupport@diabloactionpistol.com
GEO:38.0181978;-121.9914105
X-APPLE-STRUCTURED-LOCATION;VALUE=URI;X-ADDRESS=Action Pistol Range 4700 Evora Road Concord CA 94520;X-APPLE-RADIUS=500;X-TITLE=4700 Evora Road:geo:-121.9914105,38.0181978
END:VEVENT
BEGIN:VEVENT
DTSTART;TZID=America/Los_Angeles:20260404T073000
DTEND;TZID=America/Los_Angeles:20260404T120000
DTSTAMP:20260423T010520
CREATED:20240101T181058Z
LAST-MODIFIED:20251107T023048Z
UID:10005025-1775287800-1775304000@diablorodandgun.com
SUMMARY:Action Pistol Orientation Class
DESCRIPTION:All shooters must pass the orientation class in order to become certified to shoot on the Action Pistol Range. \n\nShooters are taught range requirements and safety and given an introduction into the games and their rules that are played at the Action Pistol Range.\nAfter the conclusion of the orientation class\, new participants are required to compete in the NEXT Steel Challenge Match (the following Sunday) and complete this match without disqualification.\nThe orientation class is not for brand new shooters/gun owners.  Participants shall be familiar with their guns and equipment and be able to demonstrate a minimum level of proficiency with it.  It is recommended that participants spend some time at a public range practicing and getting familiar with their guns and their shooting prior to taking this orientation class.  The orientation class is not\, nor is it intended to be\, training of any sort. It is merely meant to show new shooters the Action Pistol Range rules and requirements and to introduce the new shooters to the types of games played on the Action Pistol Range.\nBring a lunch or snack! There will be a limited break and the only thing on the premises is a vending machine with candy\, soda and Gatorade.\n\nRegister on Practiscore.com (Advance registration is required to attend the class.):  https://practiscore.com/clubs/diablo-action-pistol \n\nCheck-in:  7:30 AM – 8:00 AM\nClass:  8:00 AM – 12:00 PM
URL:https://diablorodandgun.com/event/dap-orientation-class-2/2026-04-04/
LOCATION:Action Pistol Range\, 4700 Evora Road\, Concord\, CA\, 94520
CATEGORIES:Diablo Action Pistol
ATTACH;FMTTYPE=image/jpeg:https://diablorodandgun.com/wp-content/uploads/2020/12/dap1.jpg
ORGANIZER;CN="Blade Benson":MAILTO:matchsupport@diabloactionpistol.com
GEO:38.0181978;-121.9914105
X-APPLE-STRUCTURED-LOCATION;VALUE=URI;X-ADDRESS=Action Pistol Range 4700 Evora Road Concord CA 94520;X-APPLE-RADIUS=500;X-TITLE=4700 Evora Road:geo:-121.9914105,38.0181978
END:VEVENT
BEGIN:VEVENT
DTSTART;TZID=America/Los_Angeles:20260404T090000
DTEND;TZID=America/Los_Angeles:20260404T120000
DTSTAMP:20260423T010520
CREATED:20240101T175148Z
LAST-MODIFIED:20251107T012556Z
UID:10004274-1775293200-1775304000@diablorodandgun.com
SUMMARY:Action Pistol - Sat Practice
DESCRIPTION:Range fee: \n\n$10  ($5 if you are a USI VIP Card holder)\nBring exact change.\n\nPlease note: \n\nThere will be no Saturday practice on the 5th Saturday of a month\, when those occur.\nThe number of practice bays available may be impacted by competition stage setup needs.
URL:https://diablorodandgun.com/event/dap-sat-practice-2-2-2/2026-04-04/
LOCATION:Action Pistol Range\, 4700 Evora Road\, Concord\, CA\, 94520
CATEGORIES:Diablo Action Pistol
ATTACH;FMTTYPE=image/png:https://diablorodandgun.com/wp-content/uploads/2019/01/White-bg_transparent-daplogo-e1547014989540.png
ORGANIZER;CN="Blade Benson":MAILTO:matchsupport@diabloactionpistol.com
GEO:38.0181978;-121.9914105
X-APPLE-STRUCTURED-LOCATION;VALUE=URI;X-ADDRESS=Action Pistol Range 4700 Evora Road Concord CA 94520;X-APPLE-RADIUS=500;X-TITLE=4700 Evora Road:geo:-121.9914105,38.0181978
END:VEVENT
BEGIN:VEVENT
DTSTART;TZID=America/Los_Angeles:20260404T090000
DTEND;TZID=America/Los_Angeles:20260404T120000
DTSTAMP:20260423T010520
CREATED:20240517T044944Z
LAST-MODIFIED:20250619T030220Z
UID:10004056-1775293200-1775304000@diablorodandgun.com
SUMMARY:NRL .22 Practice
DESCRIPTION:To get involved you don’t need a DGRC or NRL22 membership – while a DGRC membership will save you on Range fees it’s not required. The NRL22 membership is only required if you want to report your score up to the National Org level because you’re vying to go to the big national level matches.\nIn terms of getting started\, you can roll with a 10/22 (there are some specific safety things that we will go over with regards to a semi-auto)…you just need to have a good scope (preferably with a X-mas Tree Reticle) and a detachable bi-pod.\nLet me know if you have any further questions! I don’t normally make it to practices due to family commitments but I’m trying to get to this one so perhaps I’ll see you there?\n\n\n1st Saturday of the month  for the NRL22 practice sessions –\nLocated at the MPR\n NRLPractice sessions runs from 9am-12pm and is open to anyone who wants to try NRL22-style shooting — If you are new\, please speak to the Practice Leader/RSO about how to shoot safely\n$5 for members with the  USI VIP card\n$10 for members without the USI VIP card\n$15 for public (non-member)
URL:https://diablorodandgun.com/event/nrl22-practice-2/2026-04-04/
LOCATION:USI Multi Purpose Range\, 4700 Evora Road\, Concord\, CA\, 94520
CATEGORIES:.22lr Shooting
ATTACH;FMTTYPE=image/png:https://diablorodandgun.com/wp-content/uploads/2022/11/NRL_.22_Logo_6.2.17_MM.png
ORGANIZER;CN="Richard Carlson":MAILTO:nrl-matchsupport@diablorodandgun.com
GEO:38.0181978;-121.9914105
X-APPLE-STRUCTURED-LOCATION;VALUE=URI;X-ADDRESS=USI Multi Purpose Range 4700 Evora Road Concord CA 94520;X-APPLE-RADIUS=500;X-TITLE=4700 Evora Road:geo:-121.9914105,38.0181978
END:VEVENT
BEGIN:VEVENT
DTSTART;TZID=America/Los_Angeles:20260404T170000
DTEND;TZID=America/Los_Angeles:20260404T200000
DTSTAMP:20260423T010520
CREATED:20251107T055342Z
LAST-MODIFIED:20251117T025745Z
UID:10005143-1775322000-1775332800@diablorodandgun.com
SUMMARY:Diablo Saturday Night Shooting
DESCRIPTION:Diablo Saturday Night Shooting\n\n\n\n\n\n\n\n\nDiablo will be hosting Saturday night shooting at the public pistol range. \nIMPORTANT: If you need ammunition PLEASE be sure to grab it BEFORE USI closes. Diablo will NOT be selling ammo. \nIf you are in the mood to do some plinking\, head over to USI. Make sure you have your USI “Blue” card if not please make sure you have done the online waiver. \nTHIS WILL BE A WEEKLY SATURDAY NIGHT EVENT. BOTH RIFLE AND PISTOL WILL GENERALLY BE OPEN. \nHope to see everyone there!
URL:https://diablorodandgun.com/event/diablo-member-night-shoot-2-2-2/2026-04-04/
LOCATION:USI Public Pistol / Rifle Range\, 4700 Evora Road\, Concord\, 94520\, United States
CATEGORIES:Pistol Events
ATTACH;FMTTYPE=image/jpeg:https://diablorodandgun.com/wp-content/uploads/2025/01/unnamed-2.jpg
GEO:38.0181685;-121.9914784
X-APPLE-STRUCTURED-LOCATION;VALUE=URI;X-ADDRESS=USI Public Pistol / Rifle Range 4700 Evora Road Concord 94520 United States;X-APPLE-RADIUS=500;X-TITLE=4700 Evora Road:geo:-121.9914784,38.0181685
END:VEVENT
BEGIN:VEVENT
DTSTART;TZID=America/Los_Angeles:20260405T080000
DTEND;TZID=America/Los_Angeles:20260405T130000
DTSTAMP:20260423T010520
CREATED:20250823T002736Z
LAST-MODIFIED:20250823T002736Z
UID:10004209-1775376000-1775394000@diablorodandgun.com
SUMMARY:MPR - Diablo Small Bore and Air Gun Silhouette
DESCRIPTION:
URL:https://diablorodandgun.com/event/mpr-diablo-small-bore-and-air-gun-silhouette/2026-04-05/
LOCATION:USI Multi Purpose Range\, 4700 Evora Road\, Concord\, CA\, 94520
CATEGORIES:Airgun,Silhouette Shooting
GEO:38.0181978;-121.9914105
X-APPLE-STRUCTURED-LOCATION;VALUE=URI;X-ADDRESS=USI Multi Purpose Range 4700 Evora Road Concord CA 94520;X-APPLE-RADIUS=500;X-TITLE=4700 Evora Road:geo:-121.9914105,38.0181978
END:VEVENT
END:VCALENDAR